Workbook
Name SAPCrosstab1: Hilfstabelle!$H$1:$H$2
Name SAPCrosstab2: 'Vergangenheit nach Aufg.-gebiet'!$A$4:$F$43
Name SAPSAPSprache: Hilfstabelle!$H$1:$H$2
Name SAPSprache: Hilfstabelle!$H$2
Name Sprachtexte: Hilfstabelle!$D$3:$G$103

Sheet _com.sap.ip.bi.xl.hiddensheet

Sheet Hilfstabelle
C1: wiederkehrende Texte pro Bericht | D1: individuelle Texte pro Bericht | H1: Sprachenschlüssel
H2: DE
A3: Suchzeile | B3: TextID | C3: Erläuterung | D3: DE | E3: FR | F3: IT | G3: EN | H3: Formelergebnis
A4: 2 | B4: 1 | C4: Infoblatt zu Bericht: | D4: Infoblatt zu Bericht: | E4: Feuille d'information concernant le rapport: | H4: =IF(HLOOKUP(SAPSprache,Sprachtexte,A4,FALSE)=0,"",(HLOOKUP(SAPSprache,Sprachtexte,A4,FALSE))) -> Infoblatt zu Bericht:
A5: 3 | B5: 2 | C5: Allgemeine Informationen: | D5: Allgemeine Informationen: | E5: Informations générales: | H5: =IF(HLOOKUP(SAPSprache,Sprachtexte,A5,FALSE)=0,"",(HLOOKUP(SAPSprache,Sprachtexte,A5,FALSE))) -> Allgemeine Informationen:
A6: 4 | B6: 3 | C6: Berichtsinformationen | D6: Berichtsinformationen | E6: Informations concernant le rapport | H6: =IF(HLOOKUP(SAPSprache,Sprachtexte,A6,FALSE)=0,"",(HLOOKUP(SAPSprache,Sprachtexte,A6,FALSE))) -> Berichtsinformationen
A7: 5 | B7: 4 | C7: Berichtsname | D7: Berichtsname | E7: Nom du rapport | H7: =IF(HLOOKUP(SAPSprache,Sprachtexte,A7,FALSE)=0,"",(HLOOKUP(SAPSprache,Sprachtexte,A7,FALSE))) -> Berichtsname
A8: 6 | B8: 5 | C8: Benutzer | D8: Benutzer | E8: Utilisateur | H8: =IF(HLOOKUP(SAPSprache,Sprachtexte,A8,FALSE)=0,"",(HLOOKUP(SAPSprache,Sprachtexte,A8,FALSE))) -> Benutzer
A9: 7 | B9: 6 | C9: Letzte Datenaktualisierung | D9: Letzte Datenaktualisierung | E9: Dernière mise à jour des données | H9: =IF(HLOOKUP(SAPSprache,Sprachtexte,A9,FALSE)=0,"",(HLOOKUP(SAPSprache,Sprachtexte,A9,FALSE))) -> Letzte Datenaktualisierung
A10: 8 | B10: 7 | C10: Stichtag | D10: Stichtag | E10: Jour de référence | H10: =IF(HLOOKUP(SAPSprache,Sprachtexte,A10,FALSE)=0,"",(HLOOKUP(SAPSprache,Sprachtexte,A10,FALSE))) -> Stichtag
A11: 9 | B11: 8 | C11: Filter | D11: Filter | E11: Filtre | H11: =IF(HLOOKUP(SAPSprache,Sprachtexte,A11,FALSE)=0,"",(HLOOKUP(SAPSprache,Sprachtexte,A11,FALSE))) -> Filter
A12: 10 | B12: 9 | C12: Selektionen / Variablen | D12: Selektionen / Variablen | E12: Sélections / variables | H12: =IF(HLOOKUP(SAPSprache,Sprachtexte,A12,FALSE)=0,"",(HLOOKUP(SAPSprache,Sprachtexte,A12,FALSE))) -> Selektionen / Variablen
A13: 11 | B13: 10 | H13: =IF(HLOOKUP(SAPSprache,Sprachtexte,A13,FALSE)=0,"",(HLOOKUP(SAPSprache,Sprachtexte,A13,FALSE)))
A14: 12 | B14: 11 | H14: =IF(HLOOKUP(SAPSprache,Sprachtexte,A14,FALSE)=0,"",(HLOOKUP(SAPSprache,Sprachtexte,A14,FALSE)))
A15: 13 | B15: 12 | H15: =IF(HLOOKUP(SAPSprache,Sprachtexte,A15,FALSE)=0,"",(HLOOKUP(SAPSprache,Sprachtexte,A15,FALSE)))
A16: 14 | B16: 13 | H16: =IF(HLOOKUP(SAPSprache,Sprachtexte,A16,FALSE)=0,"",(HLOOKUP(SAPSprache,Sprachtexte,A16,FALSE)))
A17: 15 | B17: 14 | H17: =IF(HLOOKUP(SAPSprache,Sprachtexte,A17,FALSE)=0,"",(HLOOKUP(SAPSprache,Sprachtexte,A17,FALSE)))
A18: 16 | B18: 15 | H18: =IF(HLOOKUP(SAPSprache,Sprachtexte,A18,FALSE)=0,"",(HLOOKUP(SAPSprache,Sprachtexte,A18,FALSE)))
A19: 17 | B19: 16 | H19: =IF(HLOOKUP(SAPSprache,Sprachtexte,A19,FALSE)=0,"",(HLOOKUP(SAPSprache,Sprachtexte,A19,FALSE)))
A20: 18 | B20: 17 | H20: =IF(HLOOKUP(SAPSprache,Sprachtexte,A20,FALSE)=0,"",(HLOOKUP(SAPSprache,Sprachtexte,A20,FALSE)))
A21: 19 | B21: 18 | H21: =IF(HLOOKUP(SAPSprache,Sprachtexte,A21,FALSE)=0,"",(HLOOKUP(SAPSprache,Sprachtexte,A21,FALSE)))
A22: 20 | B22: 19 | H22: =IF(HLOOKUP(SAPSprache,Sprachtexte,A22,FALSE)=0,"",(HLOOKUP(SAPSprache,Sprachtexte,A22,FALSE)))
A23: 21 | B23: 20 | H23: =IF(HLOOKUP(SAPSprache,Sprachtexte,A23,FALSE)=0,"",(HLOOKUP(SAPSprache,Sprachtexte,A23,FALSE)))
A24: 22 | B24: 21 | H24: =IF(HLOOKUP(SAPSprache,Sprachtexte,A24,FALSE)=0,"",(HLOOKUP(SAPSprache,Sprachtexte,A24,FALSE)))
... A32: 30 | B32: 29 | H32: =IF(HLOOKUP(SAPSprache,Sprachtexte,A32,FALSE)=0,"",(HLOOKUP(SAPSprache,Sprachtexte,A32,FALSE)))
A33: 31 | B33: 30 | C33: Ländercode Excel | D33: [$-807] | E33: [$-100C] | F33: [$-810] | G33: [$-809] | H33: =IF(HLOOKUP(SAPSprache,Sprachtexte,A33,FALSE)=0,"",(HLOOKUP(SAPSprache,Sprachtexte,A33,FALSE))) -> [$-807]
A34: 32 | B34: 31 | C34: Berichtstitel auf Infoblatt | D34: Vergangenheit nach Aufgabengebieten | E34: Passé par groupe de tâches | H34: =IF(HLOOKUP(SAPSprache,Sprachtexte,A34,FALSE)=0,"",(HLOOKUP(SAPSprache,Sprachtexte,A34,FALSE))) -> Vergangenheit nach Aufgabengebieten
A35: 33 | B35: 32 | C35: Untertitel auf Infoblatt | H35: =IF(HLOOKUP(SAPSprache,Sprachtexte,A35,FALSE)=0,"",(HLOOKUP(SAPSprache,Sprachtexte,A35,FALSE)))
A36: 34 | B36: 33 | C36: Text allgemeine Informationen | D36: Der Bericht zeigt den Voranschlag und Finanzplan sowie die Rechnung in der Aufgabengebietssicht. Er zeigt sämtliche vorhanden Werte ab dem Jahr 1990 an. Der Bericht umfasst nur Daten, welche nachfolgende Selektionsbedingungen erfüllen: • nur finanzierungswirksam • Kontenklassen 3 und 5 • Kontengruppe 1 30 - 38 und 30 - 59 • Kreditstufe 2 ohne ausserordentliche Positionen Der Bericht basiert auf der Kreditsicht. | E36: Le rapport présente le budget, le plan financier et le compte selon l'optique des groupes de tâches. Il comprend toutes les valeurs disponibles depuis 1990. Le rapport ne tient compte que des données qui répondent aux critères de sélection suivants: • uniquement avec incidences financières • classes de comptes 3 et 5 • groupe de comptes 1 30 - 38 et 30 - 59 • niveau de crédit 2 sans les postes extraordinaires Le rapport s'oriente sur l'optique des crédits. | H36: =IF(HLOOKUP(SAPSprache,Sprachtexte,A36,FALSE)=0,"",(HLOOKUP(SAPSprache,Sprachtexte,A36,FALSE))) -> Der Bericht zeigt den Voranschlag und Finanzplan sowie die Rechnung in der Aufgabengebietssicht. Er zeigt sämtliche vorhanden Werte ab dem Jahr 1990 an. Der Bericht umfasst nur Daten, welche nachfolgende Selektionsbedingungen erfüllen: • nur finanzierungswirksam • Kontenklassen 3 und 5 • Kontengruppe 1 30 - 38 und 30 - 59 • Kreditstufe 2 ohne ausserordentliche Positionen Der Bericht basiert auf der Kreditsicht.
A37: 35 | B37: 34 | C37: Berichtstitel | D37: =D34 -> Vergangenheit nach Aufgabengebieten | E37: =E34 -> Passé par groupe de tâches | H37: =IF(HLOOKUP(SAPSprache,Sprachtexte,A37,FALSE)=0,"",(HLOOKUP(SAPSprache,Sprachtexte,A37,FALSE))) -> Vergangenheit nach Aufgabengebieten
A38: 36 | B38: 35 | C38: Berichtsuntertitel | D38: =D35 -> 0 | H38: =IF(HLOOKUP(SAPSprache,Sprachtexte,A38,FALSE)=0,"",(HLOOKUP(SAPSprache,Sprachtexte,A38,FALSE)))
A39: 37 | B39: 36 | C39: Datenquelle 1 [DS_1] | D39: Vergangenheit nach Aufg.-gebiet [DS_1] | E39: =D39 -> Vergangenheit nach Aufg.-gebiet [DS_1] | F39: =D39 -> Vergangenheit nach Aufg.-gebiet [DS_1] | G39: =D39 -> Vergangenheit nach Aufg.-gebiet [DS_1] | H39: =IF(HLOOKUP(SAPSprache,Sprachtexte,A39,FALSE)=0,"",(HLOOKUP(SAPSprache,Sprachtexte,A39,FALSE))) -> Vergangenheit nach Aufg.-gebiet [DS_1]
A40: 38 | B40: 37 | C40: Überschriften/Titel von Tabellen und Grafiken | H40: =IF(HLOOKUP(SAPSprache,Sprachtexte,A40,FALSE)=0,"",(HLOOKUP(SAPSprache,Sprachtexte,A40,FALSE)))
A41: 39 | B41: 38 | C41: Untertitel von Tabellen und Grafiken | H41: =IF(HLOOKUP(SAPSprache,Sprachtexte,A41,FALSE)=0,"",(HLOOKUP(SAPSprache,Sprachtexte,A41,FALSE)))
A42: 40 | B42: 39 | C42: Diagrammbeschriftungen | H42: =IF(HLOOKUP(SAPSprache,Sprachtexte,A42,FALSE)=0,"",(HLOOKUP(SAPSprache,Sprachtexte,A42,FALSE)))
A43: 41 | B43: 40 | C43: Fussnoten | H43: =IF(HLOOKUP(SAPSprache,Sprachtexte,A43,FALSE)=0,"",(HLOOKUP(SAPSprache,Sprachtexte,A43,FALSE)))
A44: 42 | B44: 41 | C44: … | H44: =IF(HLOOKUP(SAPSprache,Sprachtexte,A44,FALSE)=0,"",(HLOOKUP(SAPSprache,Sprachtexte,A44,FALSE)))
A45: 43 | B45: 42 | H45: =IF(HLOOKUP(SAPSprache,Sprachtexte,A45,FALSE)=0,"",(HLOOKUP(SAPSprache,Sprachtexte,A45,FALSE)))
A46: 44 | B46: 43 | H46: =IF(HLOOKUP(SAPSprache,Sprachtexte,A46,FALSE)=0,"",(HLOOKUP(SAPSprache,Sprachtexte,A46,FALSE)))
A47: 45 | B47: 44 | H47: =IF(HLOOKUP(SAPSprache,Sprachtexte,A47,FALSE)=0,"",(HLOOKUP(SAPSprache,Sprachtexte,A47,FALSE)))
...

Sheet Infoblatt
A1: =Hilfstabelle!H4&" "&Hilfstabelle!H37 -> Infoblatt zu Bericht: Vergangenheit nach Aufgabengebieten
A2: =Hilfstabelle!H35
A4: =Hilfstabelle!H5 -> Allgemeine Informationen: | B4: #REF! | C4: #REF! | D4: 0 | E4: 0
A5: =Hilfstabelle!H36 -> Der Bericht zeigt den Voranschlag und Finanzplan sowie die Rechnung in der Aufgabengebietssicht. Er zeigt sämtliche vorhanden Werte ab dem Jahr 1990 an. Der Bericht umfasst nur Daten, welche nachfolgende Selektionsbedingungen erfüllen: • nur finanzierungswirksam • Kontenklassen 3 und 5 • Kontengruppe 1 30 - 38 und 30 - 59 • Kreditstufe 2 ohne ausserordentliche Positionen Der Bericht basiert auf der Kreditsicht.
A10: =Hilfstabelle!H6 -> Berichtsinformationen | B10: #REF! | C10: #REF! | D10: 0 | E10: 0
A11: =Hilfstabelle!H7 -> Berichtsname | B11: =_xll.SAPGetWorkbookInfo("WorkbookName") -> JE_0049_Vergangenheit nach Aufgabengebieten (16-11-07).xlsx
A12: =Hilfstabelle!H8 -> Benutzer | B12: =_xll.SAPGetSourceInfo("DS_1", "LogonUser") -> CCF_FGI
A14: =Hilfstabelle!H39 -> Vergangenheit nach Aufg.-gebiet [DS_1] | D14: =_xll.SAPGetSourceInfo("DS_1", "DataSourceName") -> 0049 - Vergangenheit nach Aufgabengebieten
A15: =Hilfstabelle!$H$9 -> Letzte Datenaktualisierung | D15: =TEXT(_xll.SAPGetSourceInfo("DS_1", "LastDataUpdate"),Hilfstabelle!$H$33&"TTTT, TT. MMMM JJJJ, hh:mm:ss") -> #N/A
A16: =Hilfstabelle!$H$10 -> Stichtag | D16: =TEXT(_xll.SAPGetSourceInfo("DS_1", "KeyDate"),Hilfstabelle!$H$33&"TTTT, TT. MMMM JJJJ") -> #N/A
A17: =Hilfstabelle!$H$11 -> Filter | D17: =Hilfstabelle!$H$12 -> Selektionen / Variablen
A18: {=_xll.SAPListOfEffectiveFilters("DS_1","TEXT")} -> Detailaufgabengebiet | B18: Aufgabenportfolio | D18: =_xll.SAPListOfVariables("DS_1") -> Budgetzyklus (Intervall)
A19: Finanz.-wirksamkeit | B19: Nicht zugeordnet; finanzierungswirksam
A20: Geschäftsjahresvar. | B20: Kalenderjahr, 4 Sonderperioden
A21: InfoProvider | B21: AJESTA001; AJESTA002; AJESTA003
A22: Kontengruppe 1 | B22: Nicht zugeordnet; 30 - 38; 50 - 58
A23: Kontenklasse | B23: Nicht zugeordnet; Aufwand; Investitionsausgaben
A24: Kreditstufe 2 | B24: !Ausserordentlicher Aufwand; !Ausserordentliche Investitionsausgaben; !Ausserordentlicher Aufwand; !Ausserordentliche Investitionsausgaben; !Ausserordentliche Transaktionen
A25: SH- /Konz.kontenplan | B25: Positionsplan NRM
A26: Währung | B26: Schweiz.Frank
A27: Währungstyp | B27: Währung des Kostenrechnungskreises
A28: Zuordnung Bundes- / Sonderrechnung | B28: Stammhaus

Sheet Vergangenheit nach Aufg.-gebiet
A1: =Hilfstabelle!H37 -> Vergangenheit nach Aufgabengebieten
A2: =Hilfstabelle!H38
B4: Budgetzyklus
B6: Geschäftsjahr | C6: 2016 | D6: 2017 | E6: 2018 | F6: 2019 | G6: Proportion en fonction de l'échelon précédent pour l'année 2019
B7: Version | C7: # | D7: # | E7: # | F7: #
A8: Detailaufgabengebiet | C8: CHF | D8: CHF | E8: CHF | F8: CHF
A9: 0 | B9: Aufgabenportfolio | C9: 6.6970421e+10 | D9: 6.8236357e+10 | E9: 7.0574107e+10 | F9: 7.1414106e+10
A10: 1 | B10: Institutionelle und finanzielle Voraussetzungen | C10: 2.8185449e+09 | D10: 2.8538136e+09 | E10: 3.0032762e+09 | F10: 3.1390417e+09
A11: 3 | B11: Beziehungen zum Ausland - Internationale Zusammenarbeit | C11: 3.5444238e+09 | D11: 3.5293341e+09 | E11: 3.7709454e+09 | F11: 3.4803177e+09
A12: 4 | B12: Sicherheit | C12: 5.4585346e+09 | D12: 5.5921491e+09 | E12: 5.5699604e+09 | F12: 5.9908221e+09
A13: 5 | B13: Bildung und Forschung | C13: 7.1671869e+09 | D13: 7.5725553e+09 | E13: 7.7137019e+09 | F13: 7.9854042e+09
A14: 6 | B14: Kultur und Freizeit | C14: 5.0822493e+08 | D14: 5.14362e+08 | E14: 5.2576804e+08 | F14: 5.4649428e+08
A15: 7 | B15: Gesundheit | C15: 2.277363e+08 | D15: 2.319563e+08 | E15: 2.6969598e+08 | F15: 2.6588607e+08
A16: 8 | B16: Soziale Wohlfahrt | C16: 2.2543957e+10 | D16: 2.2907684e+10 | E16: 2.2328035e+10 | F16: 2.2385614e+10 | G16: =F16/F9 -> 0.31346208
A17: 8.1 | B17: Altersversicherung | C17: 1.0997875e+10 | D17: 1.1190598e+10 | E17: 1.1407318e+10 | F17: 1.1624466e+10
A18: 8.2 | B18: Invalidenversicherung | C18: 4.7306154e+09 | D18: 4.8330276e+09 | E18: 3.9092524e+09 | F18: 3.6872977e+09
A19: 8.3 | B19: Krankenversicherung | C19: 2.6009525e+09 | D19: 2.7351058e+09 | E19: 2.7757049e+09 | F19: 2.8584894e+09
A20: 8.4 | B20: Ergänzungsleistungen | C20: 1.5068009e+09 | D20: 1.53706e+09 | E20: 1.5799668e+09 | F20: 1.6415159e+09
A21: 8.5 | B21: Militärversicherung | C21: 2.6585964e+08 | D21: 2.0925869e+08 | E21: 1.9173788e+08 | F21: 2.0066062e+08
A22: 8.6 | B22: Arbeitslosenversicherung / Arbeitsvermittlung | C22: 5.1316696e+08 | D22: 5.3196984e+08 | E22: 5.2390875e+08 | F22: 5.4377316e+08
A23: 8.7 | B23: Sozialer Wohnungsbau / Wohnbauförderung | C23: 69375980 | D23: 57918009 | E23: 41343026 | F23: 32213281
A24: 8.8 | B24: Migration | C24: 1.7960626e+09 | D24: 1.7492652e+09 | E24: 1.8394407e+09 | F24: 1.7340167e+09
A25: 8.9 | B25: Familienpolitik, Gleichstellung | C25: 63247720 | D25: 63480854 | E25: 59362899 | F25: 63181226 | G25: =F25/F16 -> 0.0028224031
A26: 5080000 | B26: Familien- und Kinder- und Jugendpolitik | C26: 45558152 | D26: 47458110 | E26: 44921105 | F26: 47521166 | G26: =F26/F25 -> 0.75214061
A27: 1016/A200.0001 | B27: Funktionsaufwand (Globalbudget) | C27: 8215829.8 | D27: 7871667.6 | E27: 7780907.5 | F27: 8123809.9
A28: 1016/A231.0243 | B28: Familienorganisationen | C28: 2000000 | D28: 2010700 | E28: 1960700 | F28: 1936492
A29: 1016/A231.0244 | B29: Familienergänzende Kinderbetreuung | C29: 22533591 | D29: 24950515 | E29: 23055529 | F29: 25067727
A30: 1016/A231.0246 | B30: Ausserschulische Kinder- und Jugendförderung | C30: 10021996 | D30: 10218590 | E30: 10013349 | F30: 10153496
A31: 1016/A231.0247 | B31: Kinderschutz/Kinderrechte | C31: 1068600 | D31: 1134900 | E31: 1112200 | F31: 1124800
A32: 1016/A231.0249 | B32: Anschubfinanzierung zugunst. kant. Kinder- und Jugendpolitik | C32: 1680478.5 | D32: 1235000 | E32: 962375 | F32: 1085000
A33: 1057/A202.0131 | B33: Ausgleich Arbeitgeberbeiträge | C33: 42.826 | D33: 40.572 | E33: 39.99 | F33: 38.44
A34: 1057/A202.0132 | B34: Arbeitgeberleistungen und vorzeitige Pensionierungen | C34: 13232.933 | D34: 15092.126 | E34: 14449.63 | F34: 9849.9483
A35: 1057/A202.0133 | B35: Übriger Personalaufwand zentral | C35: 24380.273 | D35: 21605.788 | E35: 21554.858 | F35: 19952.948
A36: 5080100 | B36: Auslandschweizerhilfe | C36: 2212605.9 | D36: 1212419.8 | E36: 701727.72 | F36: 887394.13
A37: 5080200 | B37: Übrige Sozialhilfe | C37: 158013 | D37: 526980.3 | E37: 139432.6 | F37: 215200
A38: 5080300 | B38: Gleichstellung | C38: 15318949 | D38: 14283344 | E38: 13600634 | F38: 14557466
... A43: 13 | B43: Finanzen und Steuern | C43: 9.8615287e+09 | D43: 9.9515352e+09 | E43: 9.8866322e+09 | F43: 1.0140953e+10
