Workbook

Sheet Indice
A2: N | B2: Indicadores demográficos | C2: Desagregación requerida | D2: Fuente
A3: 1 | B3: Población total | C3: Nacional y región de planificación | D3: Estimaciones y Proyecciones de Población, INEC-CCP;
A4: 1a | B4: Estructura por sexo y edad | C4: Nacional y subpoblaciones (origen étnico-racial) | D4: X Censo de Población, 2011, INEC
A5: 2 | B5: Tasa de crecimiento de la población (por mil habitantes) | C5: Nacional y región de planificación | D5: Estimaciones y Proyecciones de Población, INEC-CCP
A6: 3 | B6: Densidad de población | C6: Nacional y región de planificación | D6: Estimaciones y Proyecciones de Población, INEC-CCP
A7: 4 | B7: Relación de dependencia demográfica | C7: Nacional, grupos dependientes, región de planificación | D7: Estimaciones y Proyecciones de Población, INEC-CCP
A8: 5 | B8: Distribución de la población por zona urbana y rural | C8: Nacional | D8: X Censo de Población, 2011, INEC
A9: 6 | B9: Porcentaje de población con discapacidad | C9: Nacional, sexo, grupos de edades y por región | D9: X Censo de Población, 2011, INEC
A10: 7 | B10: Porcentaje de población nacida en otro país | C10: Nacional, sexo, grupos de edades y por región | D10: X Censo de Población, 2011, INEC
A11: 8 | B11: Esperanza de vida al nacer | C11: Nacional, sexo | D11: Estimaciones y Proyecciones de Población, INEC-CCP
A12: 9 | B12: Tasa bruta de natalidad | C12: Nacional y región de planificación | D12: Estadísticas Vitales, INEC y Estimaciones y Proyecciones de Población, INEC-CCP.
A13: 10 | B13: Tasa bruta de mortalidad | C13: Nacional y región de planificación | D13: Estadísticas Vitales, INEC y Estimaciones y Proyecciones de Población, INEC-CCP.
A14: 11 | B14: Tasa global de fecundidad | C14: Nacional, región de planificación | D14: Estadísticas Vitales, INEC y Estimaciones y Proyecciones de Población, INEC-CCP.
A15: 12 | B15: Tasa de fecundidad adolescente | C15: Nacional, región de planificación y grupos especiales de edades | D15: Estadísticas Vitales, INEC y Estimaciones y Proyecciones de Población, INEC-CCP.
A16: 13 | B16: Porcentaje de nacimientos de madres menores de edad, en una unión impropia | C16: Nacional, sexo, grupos de edades, región de planificación | D16: Estadísticas Vitales, INEC.
... A18: 15 | B18: Porcentaje de hogares por tipo de jefatura | C18: Nacional, región de planificación y tipo de hogar | D18: ENAHO, INEC
A20: N | B20: Indicadores sociales y económicos
A21: 16 | B21: Distribución del gasto social de los hogares | C21: Nacional, tipo de gasto (alimentos, vivienda, salud y educación) | D21: ENIGH, INEC
A22: 17 | B22: Porcentaje de población en pobreza | C22: Nacional, región y nivel de pobreza (pobreza extrema y no extrema) | D22: ENAHO, INEC
A23: 17a | B23: Porcentaje de hogares en pobreza multidimensional | C23: Nacional y región de planificación | D23: ENAHO, INEC
A24: 19 | B24: Coeficiente de Gini | C24: Nacional y región de planificación | D24: ENAHO, INEC
A25: 33 | B25: Horas en promedio dedicadas al cuido | C25: Sexo y región de planificación | D25: ENUT, INEC
A26: 34 | B26: Brecha salarial por sexo | C26: Nacional y región de planificación | D26: ECE, INEC
A27: 35 | B27: Tasa de desempleo | C27: Nacional y región de planificación | D27: ECE, INEC
A28: 36 | B28: Tasa neta de participación | C28: nacional y región | D28: ECE, INEC
A29: 36a | B29: Tasa de ocupación | C29: Nacional y región | D29: ECE, INEC
A30: 36b | B30: Porcentaje de población ocupada por sector | C30: Nacional y región, por sector de actividad económica y sector (público y privado) | D30: ECE, INEC
A31: 38 | B31: Ingreso percápita | C31: Nacional y región de planificación | D31: ENAHO, INEC
A32: 42 | B32: Indice de precios al consumidor | C32: Nacional | D32: IPC, INEC
A34: N | B34: Indicadores de salud
A35: 20 | B35: Tasa de mortalidad infantil | C35: Nacional, Región de Planificación, Tipo (neonatal y posneonatal) y grupos de causas | D35: Estadísticas Vitales, INEC
A36: 22 | B36: Razón de mortalidad materna | C36: Nacional, Región de Planificación y tipo de causas | D36: Estadísticas Vitales, INEC
A37: 23 | B37: Tasa de mortalidad en la niñez | C37: Nacional, Región de Planificación y grupos de causas | D37: Estadísticas Vitales, INEC
A38: 25 | B38: Porcentaje de mujeres en edad fértil que usan anticonceptivos modernos o cuyas parejas lo usan | C38: Nacional y Región de Planificación | D38: ENSSSR, MS
A39: 26 | B39: Distribución porcentual de las defunciones por carga de la enfermedad | C39: Nacional y Región de Planificación | D39: Estadísticas Vitales, INEC
A40: 27 | B40: Principales diez causas de defunción | C40: Nacional | D40: Estadísticas Vitales, INEC
A41: 54 | B41: Tasa de mortalidad por homicidios | C41: Nacional y Región de Planificación | D41: Estadísticas Vitales, INEC
A43: N | B43: Indicadores educativos
A44: 31 | B44: Escolaridad promedio de la población | C44: Nacional, sexo, región de planificación, grupos étnicos y población con discapacidad | D44: X Censo de Población, 2011, INEC
A45: 32 | B45: Porcentaje de alfabetismo | C45: Nacional, sexo, región de planificación, grupos étnicos y población con discapacidad | D45: X Censo de Población, 2011, INEC

Sheet Población total 
A1: 1 | B1: =+Indice!B3 -> Población total | K1: ficha técnica
B4: Año | C4: Total de Población | E4: Año | F4: Región de planificación
B5: 2010 | C5: 4533894 | F5: Central | G5: Chorotega | H5: Pacífico Central | I5: Brunca | J5: Huetar Caribe | K5: Huetar Norte
B6: 2011 | C6: 4592147 | E6: 2010 | F6: 2841495 | G6: 337261 | H6: 256815 | I6: 344826 | J6: 406063 | K6: 347434
B7: 2012 | C7: 4652451 | E7: 2011 | F7: 2874405 | G7: 342702 | H7: 261346 | I7: 347541 | J7: 411404 | K7: 354749
B8: 2013 | C8: 4713164 | E8: 2012 | F8: 2908547 | G8: 348390 | H8: 266034 | I8: 350374 | J8: 416906 | K8: 362200
B9: 2014 | C9: 4773119 | E9: 2013 | F9: 2942714 | G9: 354154 | H9: 270754 | I9: 353276 | J9: 422529 | K9: 369737
B10: 2015 | C10: 4832227 | E10: 2014 | F10: 2976420 | G10: 359869 | H10: 275422 | I10: 356105 | J10: 428103 | K10: 377200
B11: 2016 | C11: 4890372 | E11: 2015 | F11: 3009786 | G11: 365542 | H11: 280054 | I11: 358791 | J11: 433523 | K11: 384531
B12: Fuente: Estimaciones y proyecciones de población, INEC-CCP | E12: 2016 | F12: 3041938 | G12: 371375 | H12: 284706 | I12: 361143 | J12: 439013 | K12: 392197
B15: Por favor incluya, en el recuadro de abajo una pequeña interpretación del dato en términos de su comportamiento reciente y tendencia, asi como algun elemento que considere importante para explicar dicho comportamiento.
B18: Interpretación
B19: Se interpreta con el indicador de tasa de crecimiento demográfico

Sheet Ficha_Población total
B2: FICHA TÉCNICA DE INDICADOR
B4: Nombre del indicador | C4: =+'Población total '!B1 -> Población total
B5: Definición conceptual | C5: Se refiere al total de población estimada o proyectada para un lugar y momento determinado. Este cálculo se basa en una población observada, que es la del Censo Nacional corregida por omisión censal que se proyecta o retroproyecta mediante la predición del comportamiento de los componentes de cambio demográfico que son la mortalidad, la fecundidad y la migración. Esta predición se basa en el comportamiento observado de estos componentes a través del tiempo.
B6: Fórmula de cálculo | C6: No aplica, es un dato absoluto
B7: Unidad de medida | C7: Dato absoluto
B8: Datos requeridos
B9: Tipo de fuente de datos | C9: Estimaciones y Proyecciones de Población
B10: Persona encargada de la fuente de datos | C10: Olga Martha Araya Umaña
B11: Observaciones y comentarios | C11: Es una estimación no corresponde a un dato observado
B12: Contacto de la persona responsable de reportar el indicador
B13: Nombre | C13: Marlene Sandoval
B14: Puesto | C14: Coordinadora del Centro de Información
B15: Institución | C15: Instituto Nacional de Estadística y Censos
B16: Teléfono | C16: 22809280
B17: Correo electrónico | C17: marlene.sandoval@inec.go.cr

Sheet Estructura por sexo y edad
A1: 1a | B1: =+Indice!B4 -> Estructura por sexo y edad | S1: ficha técnica
B3: Población total 2016 | I3: Población total 1990 | Q3: Población total 2011 | W3: Población indígena | AD3: Población afrodescendiente | AJ3: Población no indígena ni afro
B5: Grupos de edades | C5: Población 2016 | F5: Porcentaje | I5: Población 1990 | L5: Porcentaje | Q5: Población 2011 | T5: Porcentaje | W5: Población Indígena 2011 | Z5: Porcentaje | AD5: Población Afrodescendiente 2011 | AG5: Porcentaje | AJ5: Población otros grupos 2011 | AM5: Porcentaje
C6: Total | D6: Hombres 2016 | E6: Mujeres 2016 | F6: Hombres | G6: Mujeres | I6: Total | J6: Hombres 1990 | K6: Mujeres 1990 | L6: Hombres | M6: Mujeres | Q6: Total | R6: Hombres | S6: Mujeres | T6: Hombres | U6: Mujeres | W6: Total | X6: Hombres indígenas | Y6: Mujeres indígenas | Z6: Hombres | AA6: Mujeres | AD6: Total | AE6: Hombres afrodescendientes | AF6: Mujeres afrodescendientes | AG6: Hombres | AH6: Mujeres | AJ6: Total | AK6: Hombres otros | AL6: Mujeres otros | AM6: Hombres | AN6: Mujeres
B7: Total | C7: =SUM(C8:C23) -> 4890372 | D7: =SUM(D8:D23) -> 2467825 | E7: =SUM(E8:E23) -> 2422547 | F7: =SUM(F8:F23) -> -50.46293 | G7: =SUM(G8:G23) -> 49.53707 | I7: =SUM(I8:I23) -> 3029336 | J7: =SUM(J8:J23) -> 1532927 | K7: =SUM(K8:K23) -> 1496409 | L7: =SUM(L8:L23) -> -50.602739 | M7: =SUM(M8:M23) -> 49.397261 | Q7: =SUM(Q8:Q23) -> 4301712 | R7: =SUM(R8:R23) -> 2106063 | S7: =SUM(S8:S23) -> 2195649 | T7: =SUM(T8:T23) -> -48.958717 | U7: 49 | W7: =SUM(W8:W23) -> 69629 | X7: =SUM(X8:X23) -> 35166 | Y7: =SUM(Y8:Y23) -> 34463 | Z7: =SUM(Z8:Z23) -> -50.504818 | AA7: =SUM(AA8:AA23) -> 49.495182 | AD7: =SUM(AD8:AD23) -> 334437 | AE7: =SUM(AE8:AE23) -> 173035 | AF7: =SUM(AF8:AF23) -> 161402 | AG7: =SUM(AG8:AG23) -> -51.739192 | AH7: =SUM(AH8:AH23) -> 48.260808 | AJ7: =SUM(AJ8:AJ23) -> 3767992 | AK7: =SUM(AK8:AK23) -> 1833059 | AL7: =SUM(AL8:AL23) -> 1934933 | AM7: =SUM(AM8:AM23) -> -48.648166 | AN7: =SUM(AN8:AN23) -> 51.351834
B8: 0 a 4 | C8: =SUM(D8:E8) -> 370617 | D8: 189757 | E8: 180860 | F8: =(D8/($E$7+$D$7))*-100 -> -3.8802161 | G8: =(E8/($E$7+$D$7))*100 -> 3.6982872 | I8: 406889 | J8: 209182 | K8: 197707 | L8: =(J8/($K$7+$J$7))*-100 -> -6.9052096 | M8: =(K8/($K$7+$J$7))*100 -> 6.5264137 | Q8: 338717 | R8: 172943 | S8: 165774 | T8: =(R8/($R$7+$S$7))*-100 -> -4.0203296 | U8: =(S8/($R$7+$S$7))*100 -> 3.853675 | W8: 7257 | X8: 3682 | Y8: 3575 | Z8: =X8/($X$7+$Y$7)*-100 -> -5.2880265 | AA8: =Y8/($X$7+$Y$7)*100 -> 5.1343549 | AD8: 23312 | AE8: 12220 | AF8: 11092 | AG8: =AE8/($AE$7+$AF$7)*-100 -> -3.6539019 | AH8: =AF8/($AE$7+$AF$7)*100 -> 3.3166187 | AJ8: 291737 | AK8: 148509 | AL8: 143228 | AM8: =AK8/($AK$7+$AL$7)*-100 -> -3.94133 | AN8: =AL8/($AK$7+$AL$7)*100 -> 3.8011758
B9: 5 a 9 | C9: =SUM(D9:E9) -> 369326 | D9: 189395 | E9: 179931 | F9: =(D9/($E$7+$D$7))*-100 -> -3.8728138 | G9: =(E9/($E$7+$D$7))*100 -> 3.6792907 | I9: 363209 | J9: 186807 | K9: 176402 | L9: =(J9/($K$7+$J$7))*-100 -> -6.1665989 | M9: =(K9/($K$7+$J$7))*100 -> 5.8231243 | Q9: 342057 | R9: 173995 | S9: 168062 | T9: =(R9/($R$7+$S$7))*-100 -> -4.044785 | U9: =(S9/($R$7+$S$7))*100 -> 3.9068631 | W9: 7233 | X9: 3616 | Y9: 3617 | Z9: =X9/($X$7+$Y$7)*-100 -> -5.1932384 | AA9: =Y9/($X$7+$Y$7)*100 -> 5.1946746 | AD9: 27763 | AE9: 14399 | AF9: 13364 | AG9: =AE9/($AE$7+$AF$7)*-100 -> -4.3054447 | AH9: =AF9/($AE$7+$AF$7)*100 -> 3.9959693 | AJ9: 296726 | AK9: 150734 | AL9: 145992 | AM9: =AK9/($AK$7+$AL$7)*-100 -> -4.00038 | AN9: =AL9/($AK$7+$AL$7)*100 -> 3.8745305
B10: 10 a 14 | C10: =SUM(D10:E10) -> 369146 | D10: 189634 | E10: 179512 | F10: =(D10/($E$7+$D$7))*-100 -> -3.8777009 | G10: =(E10/($E$7+$D$7))*100 -> 3.6707228 | I10: 316591 | J10: 161658 | K10: 154933 | L10: =(J10/($K$7+$J$7))*-100 -> -5.336417 | M10: =(K10/($K$7+$J$7))*100 -> 5.1144211 | Q10: 387056 | R10: 195680 | S10: 191376 | T10: =(R10/($R$7+$S$7))*-100 -> -4.5488866 | U10: =(S10/($R$7+$S$7))*100 -> 4.4488334 | W10: 7888 | X10: 3934 | Y10: 3954 | Z10: =X10/($X$7+$Y$7)*-100 -> -5.6499447 | AA10: =Y10/($X$7+$Y$7)*100 -> 5.6786684 | AD10: 32621 | AE10: 16744 | AF10: 15877 | AG10: =AE10/($AE$7+$AF$7)*-100 -> -5.0066231 | AH10: =AF10/($AE$7+$AF$7)*100 -> 4.7473814 | AJ10: 336022 | AK10: 169632 | AL10: 166390 | AM10: =AK10/($AK$7+$AL$7)*-100 -> -4.5019204 | AN10: =AL10/($AK$7+$AL$7)*100 -> 4.4158799
B11: 15 a 19 | C11: =SUM(D11:E11) -> 407250 | D11: 208392 | E11: 198858 | F11: =(D11/($E$7+$D$7))*-100 -> -4.2612709 | G11: =(E11/($E$7+$D$7))*100 -> 4.0663164 | I11: 279236 | J11: 141779 | K11: 137457 | L11: =(J11/($K$7+$J$7))*-100 -> -4.6802005 | M11: =(K11/($K$7+$J$7))*100 -> 4.537529 | Q11: 405176 | R11: 201934 | S11: 203242 | T11: =(R11/($R$7+$S$7))*-100 -> -4.6942706 | U11: =(S11/($R$7+$S$7))*100 -> 4.7246771 | W11: 7062 | X11: 3597 | Y11: 3465 | Z11: =X11/($X$7+$Y$7)*-100 -> -5.165951 | AA11: =Y11/($X$7+$Y$7)*100 -> 4.9763748 | AD11: 32945 | AE11: 16743 | AF11: 16202 | AG11: =AE11/($AE$7+$AF$7)*-100 -> -5.0063241 | AH11: =AF11/($AE$7+$AF$7)*100 -> 4.8445597 | AJ11: 354611 | AK11: 176364 | AL11: 178247 | AM11: =AK11/($AK$7+$AL$7)*-100 -> -4.6805832 | AN11: =AL11/($AK$7+$AL$7)*100 -> 4.7305568
B12: 20 a 24 | C12: =SUM(D12:E12) -> 434979 | D12: 225185 | E12: 209794 | F12: =(D12/($E$7+$D$7))*-100 -> -4.6046599 | G12: =(E12/($E$7+$D$7))*100 -> 4.2899395 | I12: 292197 | J12: 148125 | K12: 144072 | L12: =(J12/($K$7+$J$7))*-100 -> -4.8896854 | M12: =(K12/($K$7+$J$7))*100 -> 4.7558937 | Q12: 410480 | R12: 203280 | S12: 207200 | T12: =(R12/($R$7+$S$7))*-100 -> -4.7255604 | U12: =(S12/($R$7+$S$7))*100 -> 4.8166869 | W12: 6121 | X12: 3085 | Y12: 3036 | Z12: =X12/($X$7+$Y$7)*-100 -> -4.4306252 | AA12: =Y12/($X$7+$Y$7)*100 -> 4.3602522 | AD12: 33678 | AE12: 17022 | AF12: 16656 | AG12: =AE12/($AE$7+$AF$7)*-100 -> -5.0897478 | AH12: =AF12/($AE$7+$AF$7)*100 -> 4.9803102 | AJ12: 359546 | AK12: 177617 | AL12: 181929 | AM12: =AK12/($AK$7+$AL$7)*-100 -> -4.713837 | AN12: =AL12/($AK$7+$AL$7)*100 -> 4.8282746
B13: 25 a 29 | C13: =SUM(D13:E13) -> 446534 | D13: 230516 | E13: 216018 | F13: =(D13/($E$7+$D$7))*-100 -> -4.71367 | G13: =(E13/($E$7+$D$7))*100 -> 4.41721 | I13: 288875 | J13: 146554 | K13: 142321 | L13: =(J13/($K$7+$J$7))*-100 -> -4.8378258 | M13: =(K13/($K$7+$J$7))*100 -> 4.6980923 | Q13: 378424 | R13: 184046 | S13: 194378 | T13: =(R13/($R$7+$S$7))*-100 -> -4.2784361 | U13: =(S13/($R$7+$S$7))*100 -> 4.5186196 | W13: 5398 | X13: 2651 | Y13: 2747 | Z13: =X13/($X$7+$Y$7)*-100 -> -3.8073217 | AA13: =Y13/($X$7+$Y$7)*100 -> 3.9451952 | AD13: 33258 | AE13: 16949 | AF13: 16309 | AG13: =AE13/($AE$7+$AF$7)*-100 -> -5.0679201 | AH13: =AF13/($AE$7+$AF$7)*100 -> 4.8765537 | AJ13: 329255 | AK13: 159178 | AL13: 170077 | AM13: =AK13/($AK$7+$AL$7)*-100 -> -4.2244782 | AN13: =AL13/($AK$7+$AL$7)*100 -> 4.5137304
B14: 30 a 34 | C14: =SUM(D14:E14) -> 429104 | D14: 219967 | E14: 209137 | F14: =(D14/($E$7+$D$7))*-100 -> -4.4979605 | G14: =(E14/($E$7+$D$7))*100 -> 4.2765049 | I14: 248666 | J14: 125796 | K14: 122870 | L14: =(J14/($K$7+$J$7))*-100 -> -4.1525932 | M14: =(K14/($K$7+$J$7))*100 -> 4.0560044 | Q14: 332897 | R14: 160678 | S14: 172219 | T14: =(R14/($R$7+$S$7))*-100 -> -3.7352105 | U14: =(S14/($R$7+$S$7))*100 -> 4.0034991 | W14: 4714 | X14: 2284 | Y14: 2430 | Z14: =X14/($X$7+$Y$7)*-100 -> -3.2802424 | AA14: =Y14/($X$7+$Y$7)*100 -> 3.4899252 | AD14: 29253 | AE14: 15101 | AF14: 14152 | AG14: =AE14/($AE$7+$AF$7)*-100 -> -4.5153497 | AH14: =AF14/($AE$7+$AF$7)*100 -> 4.2315892 | AJ14: 289703 | AK14: 138722 | AL14: 150981 | AM14: =AK14/($AK$7+$AL$7)*-100 -> -3.6815896 | AN14: =AL14/($AK$7+$AL$7)*100 -> 4.0069353
B15: 35 a 39 | C15: =SUM(D15:E15) -> 368572 | D15: 185699 | E15: 182873 | F15: =(D15/($E$7+$D$7))*-100 -> -3.7972367 | G15: =(E15/($E$7+$D$7))*100 -> 3.7394497 | I15: 196847 | J15: 98855 | K15: 97992 | L15: =(J15/($K$7+$J$7))*-100 -> -3.2632564 | M15: =(K15/($K$7+$J$7))*100 -> 3.2347683 | Q15: 288071 | R15: 138718 | S15: 149353 | T15: =(R15/($R$7+$S$7))*-100 -> -3.2247161 | U15: =(S15/($R$7+$S$7))*100 -> 3.4719433 | W15: 4098 | X15: 2087 | Y15: 2011 | Z15: =X15/($X$7+$Y$7)*-100 -> -2.9973143 | AA15: =Y15/($X$7+$Y$7)*100 -> 2.8881644 | AD15: 24955 | AE15: 12852 | AF15: 12103 | AG15: =AE15/($AE$7+$AF$7)*-100 -> -3.8428762 | AH15: =AF15/($AE$7+$AF$7)*100 -> 3.6189178 | AJ15: 251000 | AK15: 119731 | AL15: 131269 | AM15: =AK15/($AK$7+$AL$7)*-100 -> -3.1775811 | AN15: =AL15/($AK$7+$AL$7)*100 -> 3.4837919
B16: 40 a 44 | C16: =SUM(D16:E16) -> 311329 | D16: 155603 | E16: 155726 | F16: =(D16/($E$7+$D$7))*-100 -> -3.1818234 | G16: =(E16/($E$7+$D$7))*100 -> 3.1843385 | I16: 144153 | J16: 71891 | K16: 72262 | L16: =(J16/($K$7+$J$7))*-100 -> -2.3731603 | M16: =(K16/($K$7+$J$7))*100 -> 2.3854072 | Q16: 282914 | R16: 136344 | S16: 146570 | T16: =(R16/($R$7+$S$7))*-100 -> -3.1695288 | U16: =(S16/($R$7+$S$7))*100 -> 3.4072481 | W16: 3866 | X16: 1934 | Y16: 1932 | Z16: =X16/($X$7+$Y$7)*-100 -> -2.7775783 | AA16: =Y16/($X$7+$Y$7)*100 -> 2.7747059 | AD16: 22606 | AE16: 12064 | AF16: 10542 | AG16: =AE16/($AE$7+$AF$7)*-100 -> -3.6072564 | AH16: =AF16/($AE$7+$AF$7)*100 -> 3.1521632 | AJ16: 248461 | AK16: 118376 | AL16: 130085 | AM16: =AK16/($AK$7+$AL$7)*-100 -> -3.1416203 | AN16: =AL16/($AK$7+$AL$7)*100 -> 3.4523693
B17: 45 a 49 | C17: =SUM(D17:E17) -> 293008 | D17: 144492 | E17: 148516 | F17: =(D17/($E$7+$D$7))*-100 -> -2.9546219 | G17: =(E17/($E$7+$D$7))*100 -> 3.036906 | I17: 111644 | J17: 55244 | K17: 56400 | L17: =(J17/($K$7+$J$7))*-100 -> -1.823634 | M17: =(K17/($K$7+$J$7))*100 -> 1.8617941 | Q17: 267747 | R17: 128560 | S17: 139187 | T17: =(R17/($R$7+$S$7))*-100 -> -2.9885776 | U17: =(S17/($R$7+$S$7))*100 -> 3.2356187 | W17: 3354 | X17: 1691 | Y17: 1663 | Z17: =X17/($X$7+$Y$7)*-100 -> -2.4285858 | AA17: =Y17/($X$7+$Y$7)*100 -> 2.3883727 | AD17: 19652 | AE17: 10354 | AF17: 9298 | AG17: =AE17/($AE$7+$AF$7)*-100 -> -3.0959493 | AH17: =AF17/($AE$7+$AF$7)*100 -> 2.7801948 | AJ17: 237228 | AK17: 112837 | AL17: 124391 | AM17: =AK17/($AK$7+$AL$7)*-100 -> -2.9946189 | AN17: =AL17/($AK$7+$AL$7)*100 -> 3.3012544
B18: 50 a 54 | C18: =SUM(D18:E18) -> 283245 | D18: 139656 | E18: 143589 | F18: =(D18/($E$7+$D$7))*-100 -> -2.8557337 | G18: =(E18/($E$7+$D$7))*100 -> 2.936157 | I18: 93236 | J18: 46146 | K18: 47090 | L18: =(J18/($K$7+$J$7))*-100 -> -1.5233041 | M18: =(K18/($K$7+$J$7))*100 -> 1.5544661 | Q18: 235256 | R18: 112308 | S18: 122948 | T18: =(R18/($R$7+$S$7))*-100 -> -2.6107745 | U18: =(S18/($R$7+$S$7))*100 -> 2.8581179 | W18: 3103 | X18: 1592 | Y18: 1511 | Z18: =X18/($X$7+$Y$7)*-100 -> -2.2864037 | AA18: =Y18/($X$7+$Y$7)*100 -> 2.1700728 | AD18: 16514 | AE18: 8663 | AF18: 7851 | AG18: =AE18/($AE$7+$AF$7)*-100 -> -2.5903234 | AH18: =AF18/($AE$7+$AF$7)*100 -> 2.3475273 | AJ18: 208721 | AK18: 98648 | AL18: 110073 | AM18: =AK18/($AK$7+$AL$7)*-100 -> -2.6180523 | AN18: =AL18/($AK$7+$AL$7)*100 -> 2.9212642
B19: 55 a 59 | C19: =SUM(D19:E19) -> 244380 | D19: 120388 | E19: 123992 | F19: =(D19/($E$7+$D$7))*-100 -> -2.461735 | G19: =(E19/($E$7+$D$7))*100 -> 2.5354308 | I19: 77881 | J19: 38584 | K19: 39297 | L19: =(J19/($K$7+$J$7))*-100 -> -1.2736785 | M19: =(K19/($K$7+$J$7))*100 -> 1.297215 | Q19: 183581 | R19: 87315 | S19: 96266 | T19: =(R19/($R$7+$S$7))*-100 -> -2.0297733 | U19: =(S19/($R$7+$S$7))*100 -> 2.2378532 | W19: 2636 | X19: 1357 | Y19: 1279 | Z19: =X19/($X$7+$Y$7)*-100 -> -1.9489006 | AA19: =Y19/($X$7+$Y$7)*100 -> 1.8368783 | AD19: 12293 | AE19: 6431 | AF19: 5862 | AG19: =AE19/($AE$7+$AF$7)*-100 -> -1.9229332 | AH19: =AF19/($AE$7+$AF$7)*100 -> 1.7527965 | AJ19: 162932 | AK19: 76730 | AL19: 86202 | AM19: =AK19/($AK$7+$AL$7)*-100 -> -2.0363631 | AN19: =AL19/($AK$7+$AL$7)*100 -> 2.2877437
... B23: 75 y más | C23: =SUM(D23:E23) -> 147143 | D23: 66296 | E23: 80847 | F23: =(D23/($E$7+$D$7))*-100 -> -1.3556433 | G23: =(E23/($E$7+$D$7))*100 -> 1.6531871 | I23: 56774 | J23: 26836 | K23: 29938 | L23: =(J23/($K$7+$J$7))*-100 -> -0.8858707 | M23: =(K23/($K$7+$J$7))*100 -> 0.98826938 | Q23: 130130 | R23: 58076 | S23: 72054 | T23: =(R23/($R$7+$S$7))*-100 -> -1.3500671 | U23: =(S23/($R$7+$S$7))*100 -> 1.6750075 | W23: 2030 | X23: 1062 | Y23: 968 | Z23: =X23/($X$7+$Y$7)*-100 -> -1.5252266 | AA23: =Y23/($X$7+$Y$7)*100 -> 1.3902253 | AD23: 6582 | AE23: 3349 | AF23: 3233 | AG23: =AE23/($AE$7+$AF$7)*-100 -> -1.0013844 | AH23: =AF23/($AE$7+$AF$7)*100 -> 0.96669926 | AJ23: 116995 | AK23: 51549 | AL23: 65446 | AM23: =AK23/($AK$7+$AL$7)*-100 -> -1.3680762 | AN23: =AL23/($AK$7+$AL$7)*100 -> 1.7368933
B24: Fuente: INEC, CCP Estimaciones y Proyecciones de Población. | Q24: Fuente: INEC, X Censo Nacional de Población | W24: Nota: Excluye a los que no se autoidentificaron con alguno de los Pueblos Indígenas de Costa Rica | AD24: Nota: Incluye a los mulatos
B51: Por favor incluya, en el recuadro de abajo una pequeña interpretación del dato en términos de su comportamiento reciente y tendencia, así como algún elemento que considere importante para explicar dicho comportamiento.
B54: Interpretación | AE54: P51_EDAD_QUINQ*P02 Sexo tabulación cruzada
B55: Tal como se muestra en al gráfico 1, al analizar la evolución de la estructura por sexo y grupos de edades de la población de 1990 a 2016 se observa el país ha venido experimentando un proceso de envejecimiento de su población, el cual es explicado por un aumento en la esperanza de vida y la acelerada disminución de los niveles de la fecundidad. En estos últimos veinticinco años, la estructura de la población por sexo y grupos de edades se ha transformado, pasando de una forma piramidal a una forma más rectangular, producto del traslado de población de los grupos de menor edad, a los siguientes grupos de edades, es decir, la evolución de cohortes de nacimientos producto de una mayor fecundidad experimentada en los ochentas y noventas que se beneficiaron de la disminución de los niveles de la mortalidad infantil y de la niñez de las décadas más recientes. Por su parte, la población en edad productiva, es decir la población de 15 a 64 años, ha ganado peso relativo en este período, pasando de representar el 59,4%, en 1990, a 69,7% en 2016, lo que se traduce en una disminución de la relación de dependencia demográfica, que pasa de 68,3, en 1990, a una relación en el 2016 de 43,4 personas dependientes por cada cien personas en edad productiva. Este cambio en la relación de la dependencia demográfica se conoce como el bono demográfico. Si esta población en edad productiva estuviese inserta en el mercado laboral se estuviese generando un excedente de recursos, dado que hubiese menor cantidad de personas dependientes demandantes de estos recursos , lo cual se convertiría en una oportunidad para el crecimiento económico, no obstante, no toda esta población está inserta en el mercado laboral, por lo que se convierte en un reto la búsqueda de soluciones que permitan aprovechar la oportunidad del bono demográfico, sobre todo porque el país se encuentra en un momento de agotamiento del bono demográfico y ha iniciado el proceso de envejecimiento de la población, tomando en consideración que el ritmo del cambio demográfico experimentado por el país ha sido particularmente acelerado en relación con el resto de América Latina. Por otra parte, al analizar esta composición por sexo y grupos de edades de la población según su origen étnico-racial , en términos generales, la población indígena es una población mucho más joven, con una mayor concentración de población en las primeras edades (0 a 19 años), lo que podría sugerir niveles mayores de fecundidad, por su parte la población afrodescendiente si bien presenta una población más joven que la población total o la perteneciente a los otros grupos que no son ni indígenas ni afro, ya muestra una mayor concentración en los grupos de edades de 10 a 39 años, esto podría sugerir una disminución en sus niveles de fecundidad. | AE55: Recuento
AG56: P02 Sexo | AI56: Total
AG57: Hombre | AH57: Mujer
AE58: P51_EDAD_QUINQ | AF58: 0-4 | AG58: 148509 | AH58: 143228 | AI58: 291737
AF59: 5-9 | AG59: 150734 | AH59: 145992 | AI59: 296726
AF60: 10-14 | AG60: 169632 | AH60: 166390 | AI60: 336022
AF61: 15-19 | AG61: 176364 | AH61: 178247 | AI61: 354611
AF62: 20-24 | AG62: 177617 | AH62: 181929 | AI62: 359546
AF63: 25-29 | AG63: 159178 | AH63: 170077 | AI63: 329255
AF64: 30-34 | AG64: 138722 | AH64: 150981 | AI64: 289703
AF65: 35-39 | AG65: 119731 | AH65: 131269 | AI65: 251000
AF66: 40-44 | AG66: 118376 | AH66: 130085 | AI66: 248461
AF67: 45-49 | AG67: 112837 | AH67: 124391 | AI67: 237228
AF68: 50-54 | AG68: 98648 | AH68: 110073 | AI68: 208721
AF69: 55-59 | AG69: 76730 | AH69: 86202 | AI69: 162932
AF70: 60-64 | AG70: 57674 | AH70: 64821 | AI70: 122495
... AF72: 70-74 | AG72: 32891 | AH72: 37071 | AI72: 69962
AG73: =SUM(AG74:AG76) -> 51549 | AH73: =SUM(AH74:AH76) -> 65446 | AI73: =SUM(AI74:AI76) -> 116995
AF74: 75-79 | AG74: 23095 | AH74: 27647 | AI74: 50742
...

Sheet Ficha_estructura por sexo y eda
B2: FICHA TÉCNICA DE INDICADOR
B4: Nombre del indicador | C4: =+'Estructura por sexo y edad'!B1 -> Estructura por sexo y edad
B5: Definición conceptual | C5: Se refiere a la distribución porcentual de la población por sexo y edades. Se representa gráficamente en una pirámide de población.
B6: Fórmula de cálculo
B7: Unidad de medida | C7: Distribución porcentual
B8: Datos requeridos | C8: Población por grupos de edades y sexo
B9: Tipo de fuente de datos | C9: Censos de Población o Estimaciones y Proyecciones de Población
B10: Persona responsable de la fuente de datos | C10: Olga Martha Araya Umaña
B11: Observaciones y comentarios | C11: Las Estimaciones y Proyecciones de población solo se tienen para grupos de edades y sexo, por lo que para obtener la piramide poblacional de la población por autoidentificación étnico-racial y que sea comparable con la población nacional también se calcula con datos del Censo Nacional de Población
B12: Contacto de la persona responsable de reportar el indicador
B13: Nombre | C13: Marlene Sandoval
B14: Puesto | C14: Coordinadora del Centro de Información
B15: Institución | C15: Instituto Nacional de Estadística y Censos
B16: Teléfono | C16: 22809280
B17: Correo electrónico | C17: marlene.sandoval@inec.go.cr

Sheet Tasa de crecimiento de la pobla
A1: 2 | B1: =+Indice!B5 -> Tasa de crecimiento de la población (por mil habitantes) | K1: ficha técnica
E3: Año | F3: Región de planificación
B4: Año | C4: Tasa | F4: Central | G4: Chorotega | H4: Pacífico Central | I4: Brunca | J4: Huetar Caribe | K4: Huetar Norte
B5: 2010-2011 | C5: =LN('Población total '!C6/'Población total '!C5)/1*1000 -> 12.766498 | E5: 2010-2011 | F5: =LN('Población total '!F7/'Población total '!F6)/1*1000 -> 11.515374 | G5: =LN('Población total '!G7/'Población total '!G6)/1*1000 -> 16.004154 | H5: =LN('Población total '!H7/'Población total '!H6)/1*1000 -> 17.489219 | I5: =LN('Población total '!I7/'Población total '!I6)/1*1000 -> 7.8427017 | J5: =LN('Población total '!J7/'Población total '!J6)/1*1000 -> 13.06738 | K5: =LN('Población total '!K7/'Población total '!K6)/1*1000 -> 20.835778
B6: 2011-2012 | C6: =LN('Población total '!C7/'Población total '!C6)/1*1000 -> 13.046507 | E6: 2011-2012 | F6: =LN('Población total '!F8/'Población total '!F7)/1*1000 -> 11.807947 | G6: =LN('Población total '!G8/'Población total '!G7)/1*1000 -> 16.461277 | H6: =LN('Población total '!H8/'Población total '!H7)/1*1000 -> 17.77892 | I6: =LN('Población total '!I8/'Población total '!I7)/1*1000 -> 8.1185117 | J6: =LN('Población total '!J8/'Población total '!J7)/1*1000 -> 13.285077 | K6: =LN('Población total '!K8/'Población total '!K7)/1*1000 -> 20.786048
B7: 2012-2013 | C7: =LN('Población total '!C8/'Población total '!C7)/1*1000 -> 12.965267 | E7: 2012-2013 | F7: =LN('Población total '!F9/'Población total '!F8)/1*1000 -> 11.678641 | G7: =LN('Población total '!G9/'Población total '!G8)/1*1000 -> 16.409305 | H7: =LN('Población total '!H9/'Población total '!H8)/1*1000 -> 17.586539 | I7: =LN('Población total '!I9/'Población total '!I8)/1*1000 -> 8.2484657 | J7: =LN('Población total '!J9/'Población total '!J8)/1*1000 -> 13.397307 | K7: =LN('Población total '!K9/'Población total '!K8)/1*1000 -> 20.595397
B8: 2013-2014 | C8: =LN('Población total '!C9/'Población total '!C8)/1*1000 -> 12.640525 | E8: 2013-2014 | F8: =LN('Población total '!F10/'Población total '!F9)/1*1000 -> 11.388951 | G8: =LN('Población total '!G10/'Población total '!G9)/1*1000 -> 16.00823 | H8: =LN('Población total '!H10/'Población total '!H9)/1*1000 -> 17.093807 | I8: =LN('Población total '!I10/'Población total '!I9)/1*1000 -> 7.9760101 | J8: =LN('Población total '!J10/'Población total '!J9)/1*1000 -> 13.105737 | K8: =LN('Población total '!K10/'Población total '!K9)/1*1000 -> 19.983609
B9: 2014-2015 | C9: =LN('Población total '!C10/'Población total '!C9)/1*1000 -> 12.307468 | E9: 2014-2015 | F9: =LN('Población total '!F11/'Población total '!F10)/1*1000 -> 11.147744 | G9: =LN('Población total '!G11/'Población total '!G10)/1*1000 -> 15.641107 | H9: =LN('Población total '!H11/'Población total '!H10)/1*1000 -> 16.677975 | I9: =LN('Población total '!I11/'Población total '!I10)/1*1000 -> 7.5144151 | J9: =LN('Población total '!J11/'Población total '!J10)/1*1000 -> 12.58103 | K9: =LN('Población total '!K11/'Población total '!K10)/1*1000 -> 19.248859
B10: 2015-2016 | C10: =LN('Población total '!C11/'Población total '!C10)/1*1000 -> 11.960936 | E10: 2015-2016 | F10: =LN('Población total '!F12/'Población total '!F11)/1*1000 -> 10.625832 | G10: =LN('Población total '!G12/'Población total '!G11)/1*1000 -> 15.83115 | H10: =LN('Población total '!H12/'Población total '!H11)/1*1000 -> 16.474627 | I10: =LN('Población total '!I12/'Población total '!I11)/1*1000 -> 6.5339555 | J10: =LN('Población total '!J12/'Población total '!J11)/1*1000 -> 12.584174 | K10: =LN('Población total '!K12/'Población total '!K11)/1*1000 -> 19.739855
B11: Fuente: INEC-CCP, Estimaciones y Proyecciones de Población
B14: Por favor incluya, en el recuadro de abajo una pequeña interpretación del dato en términos de su comportamiento reciente y tendencia, así como algún elemento que considere importante para explicar dicho comportamiento.
B17: Interpretación
B18: De acuerdo a las estimaciones y proyecciones vigentes, la población a nivel nacional sigue creciendo, no obstante, su ritmo de crecimiento ha venido dismuyendo, pasando de un crecimiento de aproximadamente 13 personas por cada mil en el periodo 2010-2011 a 12 en el periodo 2015-2016, es decir, su crecimiento disminuyó en una persona por cada mil habitantes. Este decrecimiento es explicado principalmente por el descenso de la fecundidad observado en el periodo 2000-2011, con el que se proyectó el comportamiento de la fecundidad, y que los datos observados recientemente de los nacimientos lo corroboran. A nivel subnacional, específicamente en las 6 regiones de planificación esta tendencia de desaceleración del crecimiento se mantiene, a excepción de las regiones Chorotega y Huetar Norte que para el periodo 2015-2016 presentan un leve aumento. Las regiones que experimentan esta desaceleración de su crecimiento de manera más pronunciada son la Central, Pacífico Central y Brunca.

Sheet Ficha_tasa de crecimiento de la
B2: FICHA TÉCNICA DE INDICADOR
B4: Nombre del indicador | C4: =+'Tasa de crecimiento de la pobla'!B1 -> Tasa de crecimiento de la población (por mil habitantes)
B5: Definición conceptual | C5: Se refiere al ritmo de crecimiento anual de la población, asumiendo un crecimiento exponencial.
B6: Fórmula de cálculo | C6: Donde: R = crecimiento de la población LN = Logaritmo Natural Pf = Población final Pi = Población inicial t= tiempo transcurrido entre la Pi y la Pf
B7: Unidad de medida | C7: Tasa anualizada
B8: Datos requeridos | C8: Población total por años calendario
B9: Tipo de fuente de datos | C9: Estimaciones y Proyecciones de Población
B10: Persona responsable de la fuente de datos | C10: Olga Martha Araya Umaña
B11: Observaciones y comentarios
B12: Contacto de la persona responsable de reportar el indicador
B13: Nombre | C13: Marlene Sandoval
B14: Puesto | C14: Coordinadora del Centro de Información
B15: Institución | C15: Instituto Nacional de Estadística y Censos
B16: Teléfono | C16: 22809280
B17: Correo electrónico | C17: marlene.sandoval@inec.go.cr

Sheet Densidad de población
A1: 3 | B1: =+Indice!B6 -> Densidad de población | I1: ficha técnica
F3: Año | G3: Región de planificación
B4: Año | C4: Densidad | G4: Central | H4: Chorotega | I4: Pacífico Central | J4: Brunca | K4: Huetar Caribe | L4: Huetar Norte
B5: 2010 | C5: 88.634493 | D5: =+(C6-C5)/C5*100 -> 1.2848337 | F5: 2010 | G5: 332.85048 | H5: 33.107972 | I5: 65.793935 | J5: 36.160603 | K5: 44.142386 | L5: 35.485274 | M5: =(G6-G5)/G5*100 -> 1.1581931 | N5: =(H6-H5)/H5*100 -> 1.6132906 | O5: =(I6-I5)/I5*100 -> 1.764305 | P5: =(J6-J5)/J5*100 -> 0.78735362 | Q5: =(K6-K5)/K5*100 -> 1.3153131 | R5: =(L6-L5)/L5*100 -> 2.1054359
B6: 2011 | C6: 89.773298 | D6: =+(C7-C6)/C6*100 -> 1.3131984 | F6: 2011 | G6: 336.70553 | H6: 33.6421 | I6: 66.954741 | J6: 36.445315 | K6: 44.722996 | L6: 36.232393 | M6: =(G7-G6)/G6*100 -> 1.1877936 | N6: =(H7-H6)/H6*100 -> 1.659751 | O6: =(I7-I6)/I6*100 -> 1.7937906 | P6: =(J7-J6)/J6*100 -> 0.81515562 | Q6: =(K7-K6)/K6*100 -> 1.3373715 | R6: =(L7-L6)/L6*100 -> 2.1003583
B7: 2012 | C7: 90.9522 | D7: =+(C8-C7)/C7*100 -> 1.3049681 | F7: 2012 | G7: 340.7049 | H7: 34.200475 | I7: 68.155769 | J7: 36.742401 | K7: 45.321109 | L7: 36.993403 | M7: =(G8-G7)/G7*100 -> 1.1747103 | N7: =(H8-H7)/H7*100 -> 1.6544677 | O7: =(I8-I7)/I7*100 -> 1.7742093 | P7: =(J8-J7)/J7*100 -> 0.8282578 | Q7: =(K8-K7)/K7*100 -> 1.3487453 | R7: =(L8-L7)/L7*100 -> 2.0808945
B8: 2013 | C8: 92.139097 | D8: =+(C9-C8)/C8*100 -> 1.2720754 | F8: 2013 | G8: 344.70719 | H8: 34.766311 | I8: 69.364995 | J8: 37.046723 | K8: 45.932375 | L8: 37.763197 | M8: =(G9-G8)/G8*100 -> 1.1454052 | N8: =(H9-H8)/H8*100 -> 1.6137048 | O8: =(I9-I8)/I8*100 -> 1.7240743 | P8: =(J9-J8)/J8*100 -> 0.80079032 | Q8: =(K9-K8)/K8*100 -> 1.3191994 | R8: =(L9-L8)/L8*100 -> 2.0184618
B9: 2014 | C9: 93.311176 | D9: =+(C10-C9)/C9*100 -> 1.2383517 | F9: 2014 | G9: 348.65549 | H9: 35.327337 | I9: 70.560899 | J9: 37.343389 | K9: 46.538315 | L9: 38.525433 | M9: =(G10-G9)/G9*100 -> 1.1210111 | N9: =(H10-H9)/H9*100 -> 1.576407 | O9: =(I10-I9)/I9*100 -> 1.6817829 | P9: =(J10-J9)/J9*100 -> 0.75427191 | Q9: =(K10-K9)/K9*100 -> 1.2660505 | R9: =(L10-L9)/L9*100 -> 1.9435313
B10: 2015 | C10: 94.466696 | D10: =+(C11-C10)/C10*100 -> 1.2032754 | F10: 2015 | G10: 352.56395 | H10: 35.884239 | I10: 71.74758 | J10: 37.62506 | K10: 47.127513 | L10: 39.274187 | M10: =(G11-G10)/G10*100 -> 1.0682487 | N10: =(H11-H10)/H10*100 -> 1.5957127 | O10: =(I11-I10)/I10*100 -> 1.6611082 | P10: =(J11-J10)/J10*100 -> 0.65553484 | Q10: =(K11-K10)/K10*100 -> 1.2663688 | R10: =(L11-L10)/L10*100 -> 1.9935974
B11: 2016 | C11: 95.603391 | F11: 2016 | G11: 356.33021 | H11: 36.456849 | I11: 72.939385 | J11: 37.871705 | K11: 47.724322 | L11: 40.057156
B12: Fuente: INEC, Estimaciones y proyecciones de población
B15: Por favor incluya, en el recuadro de abajo una pequeña interpretación del dato en términos de su comportamiento reciente y tendencia, así como algún elemento que considere importante para explicar dicho comportamiento.
B18: Interpretación
B19: A nivel nacional se observa un incremento en la densidad poblacional, producto del crecimiento poblacional. La Región Central es la más densamente poblada, concentra aproximadamente el 62% de la población total del país, pero en términos de extensión territorial esta corresponde únicamente al 16,?% del país. En cuanto al ritmo en que estas regiones han aumentado su densidad es relevante indicar que la Región Huetar Norte es la que presenta un ritmo más acelerado de cambio de este indicador, mientras que la Región Chorotega es la que ha cambia más lentamente, siendo además, de las regiones con menor densidad poblacional.

Sheet Ficha_densidad de población
B2: FICHA TÉCNICA DE INDICADOR
B4: Nombre del indicador | C4: =+'Densidad de población'!B1 -> Densidad de población
B5: Definición conceptual | C5: Corresponde a la relación entre la cantidad de habitantes por kilómetro cuadrado de una zona geográfica
B6: Fórmula de cálculo
B7: Unidad de medida | C7: Razón
B8: Datos requeridos
B9: Tipo de fuente de datos
B10: Persona responsable de la fuente de datos | C10: Olga Martha Araya Umaña
B11: Observaciones y comentarios
B12: Contacto de la persona responsable de reportar el indicador
B13: Nombre | C13: Marlene Sandoval
B14: Puesto | C14: Coordinadora del Centro de Información
B15: Institución | C15: Instituto Nacional de Estadística y Censos
B16: Teléfono | C16: 22809280
B17: Correo electrónico | C17: marlene.sandoval@inec.go.cr

Sheet RDependencia demográfica
A1: 4 | B1: =+Indice!B7 -> Relación de dependencia demográfica | F1: ficha técnica
F3: Año | G3: Región de planificación
B4: Año | C4: Relación de dependencia demográfica | G4: Central | H4: Chorotega | I4: Pacífico Central | J4: Brunca | K4: Huetar Caribe | L4: Huetar Norte
B5: 2010 | C5: 183.09503 | F5: 2010 | G5: 176.4503 | H5: 190.85026 | I5: 188.46372 | J5: 195.18412 | K5: 198.01983 | L5: 199.93628 | M5: =+(G11-G5)/G5*100 -> -3.4866454 | N5: =+(H11-H5)/H5*100 -> -3.0988557 | O5: =+(I11-I5)/I5*100 -> -3.8188842 | P5: =+(J11-J5)/J5*100 -> -5.3047082 | Q5: =+(K11-K5)/K5*100 -> -5.0728034 | R5: =+(L11-L5)/L5*100 -> -5.9905011
B6: 2011 | C6: 181.15819 | F6: 2011 | G6: 174.74848 | H6: 189.07405 | I6: 186.45315 | J6: 192.63326 | K6: 195.43089 | L6: 196.87293
B7: 2012 | C7: 179.78892 | F7: 2012 | G7: 173.54895 | H7: 187.93071 | I7: 185.11388 | J7: 190.72329 | K7: 193.55619 | L7: 194.61929
B8: 2013 | C8: 178.70541 | F8: 2013 | G8: 172.61441 | H8: 187.09429 | I8: 184.06301 | J8: 189.10991 | K8: 192.02205 | L8: 192.75299
B9: 2014 | C9: 177.75693 | F9: 2014 | G9: 171.79802 | H9: 186.39504 | I9: 183.17195 | J9: 187.67499 | K9: 190.64431 | L9: 191.10459
B10: 2015 | C10: 176.72672 | F10: 2015 | G10: 170.91144 | H10: 185.60693 | I10: 182.20006 | J10: 186.12943 | K10: 189.14771 | L10: 189.37603
B11: 2016 | C11: 175.95167 | F11: 2016 | G11: 170.2981 | H11: 184.93609 | I11: 181.26651 | J11: 184.83017 | K11: 187.97468 | L11: 187.95909
B12: Fuente: INEC-CCP, Estimaciones y Proyecciones de Población
B15: Por favor incluya, en el recuadro de abajo una pequeña interpretación del dato en términos de su comportamiento reciente y tendencia, asi como algun elemento que considere importante para explicar dicho comportamiento.
B18: Interpretación
B19: La relación de dependencia demográfica ha disminuido durante todo el periodo, producto principalmente del comportamiento de la población dependiente menor de 15 años, lo cual se explica por la disminución sostenida y acelerada de la fecundidad que experimenta el país. Esta disminución se traduce en aproximadamente 7 personas dependientes menos por cada 100 personas en edad productiva. Al analizar el comportamiento de este indicador por regiones de planificación, llama la atención de que a pesar de que las regiones Brunca, Huetar Caribe y Huetar Norte son las que tienen una mayor proporción de población dependiente, entre 15 y 20 personas más, por cada cien en edad productiva con respecto a la Región Central, y son estas regiones las que han experimentado una reducción más acelerada de su población dependiente.

Sheet Ficha_RDependencia demográfica
B2: FICHA TÉCNICA DE INDICADOR
B4: Nombre del indicador | C4: =+'RDependencia demográfica'!B1 -> Relación de dependencia demográfica
B5: Definición conceptual | C5: Corresponde a la relación entre la población que se considera dependiente (0-14 años y de 65 y más) en relación a la población en edad productiva.
B6: Fórmula de cálculo
B7: Unidad de medida | C7: Razón
B8: Datos requeridos
B9: Tipo de fuente de datos
B10: Persona responsable de la fuente de datos | C10: Olga Martha Araya Umaña
B11: Observaciones y comentarios
B12: Contacto de la persona responsable de reportar el indicador
B13: Nombre | C13: Marlene Sandoval
B14: Puesto | C14: Coordinadora del Centro de Información
B15: Institución | C15: Instituto Nacional de Estadística y Censos
B16: Teléfono | C16: 22809280
B17: Correo electrónico | C17: marlene.sandoval@inec.go.cr

Sheet Pob urbana y rural
A1: 5 | B1: =+Indice!B8 -> Distribución de la población por zona urbana y rural | H1: ficha técnica
H3: Año | I3: Región de planificación
B4: Año | C4: Población | E4: Porcentaje | I4: Central | K4: Chorotega | M4: Pacífico Central | O4: Brunca | Q4: Huetar Caribe | S4: Huetar Norte
C5: Urbana | D5: Rural | E5: Urbana | F5: Rural | I5: Urbano | J5: Rural | K5: Urbano | L5: Rural | M5: Urbano | N5: Rural | O5: Urbano | P5: Rural | Q5: Urbano | R5: Rural | S5: Urbano | T5: Rural
B6: 2010 | H6: 2010
B7: 2011 | C7: 3204510 | D7: 1244406 | E7: =C7/(C7+D7)*100 -> 72.029007 | F7: =D7/(D7+C7)*100 -> 27.970993 | H7: 2011 | I7: 85.908168 | J7: 14.091832 | K7: 54.544595 | L7: 45.455405 | M7: 64.484442 | N7: 35.515558 | O7: 42.330514 | P7: 57.669486 | Q7: 55.962686 | R7: 44.037314 | S7: 32.865509 | T7: 67.134491
B8: 2012 | H8: 2012
B9: 2013 | H9: 2013
B10: 2014 | H10: 2014
B11: 2015 | H11: 2015
B12: 2016 | H12: 2016
B13: Fuente: INEC, X Censo Nacional de Población, 2011.
B16: Por favor incluya, en el recuadro de abajo una pequeña interpretación del dato en términos de su comportamiento reciente y tendencia, asi como algun elemento que considere importante para explicar dicho comportamiento.
B19: Interpretación
B20: La mayor proporción de la población se concentra en la zona urbana, esto es explicado por la mayor densidad de población que se presenta en la Región Central, donde se concentra el 62,2% del total de la población del país, de la cual el 86 % de su población reside en zona urbana. Así mismo regiones como Chorotega, Pacífico Central y Huetar Caribe donde más del 55% de su población reside en zona urbana.

Sheet Ficha_Pobl urbana y rural
B2: FICHA TÉCNICA DE INDICADOR
B4: Nombre del indicador | C4: =+'Pob urbana y rural'!B1 -> Distribución de la población por zona urbana y rural
B5: Definición conceptual | C5: Se refiere a la proporción que reside en la zona o urbana o rural en relación a la población total.
B6: Fórmula de cálculo
B7: Unidad de medida | C7: Porcentaje
B8: Datos requeridos
B9: Tipo de fuente de datos
B10: Persona responsable de la fuente de datos | C10: Olga Martha Araya Umaña
B11: Observaciones y comentarios
B12: Contacto de la persona responsable de reportar el indicador
B13: Nombre | C13: Marlene Sandoval
B14: Puesto | C14: Coordinadora del Centro de Información
B15: Institución | C15: Instituto Nacional de Estadística y Censos
B16: Teléfono | C16: 22809280
B17: Correo electrónico | C17: marlene.sandoval@inec.go.cr

Sheet Pob con discapacidad
A1: 6 | B1: =+Indice!B9 -> Porcentaje de población con discapacidad | K1: ficha técnica
E3: Año | F3: Sexo | I3: Año | J3: Grupos de edades
B4: Año | C4: Porcentaje | F4: Hombre | G4: Mujer | J4: 0-12 | K4: 13-19 | L4: 20-29 | M4: 30-39 | N4: 40-49 | O4: 50-59 | P4: 60 -69 | Q4: 70 y más | S4: Año | T4: Región de planificación
B5: 2010 | E5: 2010 | I5: 2010 | T5: Central | U5: Chorotega | V5: Pacífico Central | W5: Brunca | X5: Huetar Caribe | Y5: Huetar Norte
B6: 2011 | C6: 10.423896 | E6: 2011 | F6: 48.211665 | G6: 51.788335 | I6: 2011 | J6: 6.2401038 | K6: 5.7577285 | L6: 8.5652288 | M6: 8.7815506 | N6: 15.132715 | O6: 19.056614 | P6: 15.443371 | Q6: 21.022689 | S6: 2010
B7: 2012 | E7: 2012 | I7: 2012 | S7: 2011 | T7: 61.03665 | U7: 7.8981994 | V7: 5.6825734 | W7: 8.514159 | X7: 9.5788192 | Y7: 7.2895992
B8: 2013 | E8: 2013 | I8: 2013 | S8: 2012
B9: 2014 | E9: 2014 | I9: 2014 | S9: 2013
B10: 2015 | E10: 2015 | I10: 2015 | S10: 2014
B11: 2016 | E11: 2016 | I11: 2016 | S11: 2015
B12: Fuente: INEC, X Censo Nacional de Población, 2011 | S12: 2016
B15: Por favor incluya, en el recuadro de abajo una pequeña interpretación del dato en términos de su comportamiento reciente y tendencia, así como algún elemento que considere importante para explicar dicho comportamiento.
B18: Interpretación
B19: La población con discapacidad, es decir, aquella que manifestó tener al menos una limitación permanente para llevar a cabo sus actividades cotidianas, representa el 10,2% de la población total del país, al analizar la distribución de esta población por sexo se evidencia un mayor aporte de la población femenina, que puede estar explicada por una mayor sobrevivencia de las mujeres en edades avanzadas, esto dado que la población de 60 años y más representa el 36, 5% de la población con discapacidad. Al analizar el comportamiento de este indicador a nivel de región de planificación se muestra que el 61,0% de esta población reside en la Región Central, esto dado también por que es la región más altamente poblada.

Sheet Ficha_pob con discapacidad
B2: FICHA TÉCNICA DE INDICADOR
B4: Nombre del indicador | C4: =+'Pob con discapacidad'!B1 -> Porcentaje de población con discapacidad
B5: Definición conceptual | C5: Se refiere a la proporción de población que tiene alguna limitación permanente para desarrollarse en su vida diaria en relación al total de la población
B6: Fórmula de cálculo
B7: Unidad de medida | C7: Promedio
B8: Datos requeridos | C8: Población con discapacidad y población total
B9: Tipo de fuente de datos | C9: Censo de población
B10: Persona responsable de la fuente de datos | C10: Olga Martha Araya Umaña
B11: Observaciones y comentarios
B12: Contacto de la persona responsable de reportar el indicador
B13: Nombre | C13: Marlene Sandoval
B14: Puesto | C14: Coordinadora del Centro de Información
B15: Institución | C15: Instituto Nacional de Estadística y Censos
B16: Teléfono | C16: 22809280
B17: Correo electrónico | C17: marlene.sandoval@inec.go.cr

Sheet Pob nacida en otro país
A1: 7 | B1: =+Indice!B10 -> Porcentaje de población nacida en otro país | K1: ficha técnica
E3: Año | F3: Sexo | I3: Año | J3: Grupos de edades
B4: Año | C4: Porcentaje | F4: Hombre | G4: Mujer | J4: 0-12 | K4: 13-19 | L4: 20-29 | M4: 30-39 | N4: 40-49 | O4: 50-59 | P4: 60 -69 | Q4: 70 y más | S4: Año | T4: Región de planificación
B5: 2010 | E5: 2010 | I5: 2010 | T5: Central | U5: Chorotega | V5: Pacífico Central | W5: Brunca | X5: Huetar Caribe | Y5: Huetar Norte
B6: 2011 | C6: 8.7127172 | E6: 2011 | F6: 48.160599 | G6: 51.839401 | I6: 2011 | J6: 7.5561105 | K6: 10.501446 | L6: 22.741438 | M6: 24.125925 | N6: 16.460421 | O6: 9.3845719 | P6: 5.1449322 | Q6: 4.0851557 | S6: 2010
B7: 2012 | E7: 2012 | I7: 2012 | S7: 2011 | T7: 63.302437 | U7: 7.0262223 | V7: 4.6110417 | W7: 2.985891 | X7: 8.7276812 | Y7: 13.346727
B8: 2013 | E8: 2013 | I8: 2013 | S8: 2012
B9: 2014 | E9: 2014 | I9: 2014 | S9: 2013
B10: 2015 | E10: 2015 | I10: 2015 | S10: 2014
B11: 2016 | E11: 2016 | I11: 2016 | S11: 2015
B12: Fuente: INEC, X Censo de Población y Vivienda, 2011 | S12: 2016
B15: Por favor incluya, en el recuadro de abajo una pequeña interpretación del dato en términos de su comportamiento reciente y tendencia, asi como algun elemento que considere importante para explicar dicho comportamiento.
B18: Interpretación
B19: La población nacida en otro país, o migrante internacional representa aproximadamente el 9% de la población total del país. Al analizar la distribución por sexo de esta población se muestra una mayor contribución de la población femenina, representando aproximadamente el 52%. Con respecto a la distribución por edades más del 70% de población nacida en otro país se encuentra en edad productiva y el 63% reside en la Región Central.

Sheet Ficha_pob nacida en otro país
B2: FICHA TÉCNICA DE INDICADOR
B4: Nombre del indicador | C4: =+'Pob nacida en otro país'!B1 -> Porcentaje de población nacida en otro país
B5: Definición conceptual | C5: Se refiere a la proporción de la población total que ha nacido en otro país. Se considera migrante internacional.
B6: Fórmula de cálculo
B7: Unidad de medida | C7: Porcentaje
B8: Datos requeridos | C8: Total de población por lugar de residencia de la madre en el momento del nacimiento y población total
B9: Tipo de fuente de datos | C9: X Censo de Población
B10: Persona responsable de la fuente de datos | C10: Olga Martha Araya Umaña
B11: Observaciones y comentarios
B12: Contacto de la persona responsable de reportar el indicador
B13: Nombre | C13: Marlene Sandoval
B14: Puesto | C14: Coordinadora del Centro de Información
B15: Institución | C15: Instituto Nacional de Estadística y Censos
B16: Teléfono | C16: 22809280
B17: Correo electrónico | C17: marlene.sandoval@inec.go.cr

Sheet Esperanza de vida al nacer
A1: 8 | B1: =+Indice!B11 -> Esperanza de vida al nacer | G1: ficha técnica
B4: Año | C4: E0 | E4: Año | F4: Sexo
B5: 2010 | C5: 79.1145 | F5: Hombres | G5: Mujeres
B6: 2011 | C6: 79.11395 | E6: 2010 | F6: 76.6355 | G6: 81.5935
B7: 2012 | C7: 79.4342 | E7: 2011 | F7: 76.6347 | G7: 81.5932
B8: 2013 | C8: 79.59025 | E8: 2012 | F8: 76.9348 | G8: 81.9336
B9: 2014 | C9: 79.7437 | E9: 2013 | F9: 77.0815 | G9: 82.099
B10: 2015 | C10: 79.8946 | E10: 2014 | F10: 77.226 | G10: 82.2614
B11: 2016 | C11: 80.0431 | E11: 2015 | F11: 77.3684 | G11: 82.4208
B12: Fuente: INEC-CCP, Estimaciones y Proyecciones de Población. | E12: 2016 | F12: 77.5088 | G12: 82.5774
B15: Por favor incluya, en el recuadro de abajo una pequeña interpretación del dato en términos de su comportamiento reciente y tendencia, así como algún elemento que considere importante para explicar dicho comportamiento.
B18: Interpretación
B19: La esperanza de vida al nacer en Costa Rica, ha aumentado en promedio un año en los últimos 7 años, pasando de 79 en 2010 a 80 años en 2016. Lo anterior, debido en gran medida a la disminución sostenida de la mortalidad infantil Dado que la mortalidad tiene un efecto diferencial por sexo, hace que la esperanza de vida al nacer de las mujeres sea mayor que la de los hombres, aunque la ganancia de 1 año se da tanto para hombres como para mujeres.

Sheet Ficha_esperanza de vida al nace
B2: FICHA TÉCNICA DE INDICADOR
B4: Nombre del indicador | C4: =+'Esperanza de vida al nacer'!B1 -> Esperanza de vida al nacer
B5: Definición conceptual | C5: Esta es una medida hipotética que corresponde al número de años en promedio se espera que viva una persona de una cohorte hipotética si las tasas de mortalidad por edad específica para un año determinado permanecieran durante el resto de su vida. Es un indicador derivado de las tablas de vida.
B6: Fórmula de cálculo | C6: Donde: Tx es el número total de años vividos por la población desde la edadx lx corresponde a los supervivientes a la edad exacta X
B7: Unidad de medida | C7: Años en promedio (medida hipotética)
B8: Datos requeridos | C8: Tablas completas de mortalidad
B9: Tipo de fuente de datos | C9: Estimaciones y proyecciones de población
B10: Persona responsable de la fuente de datos | C10: Olga Martha Araya Umaña
B11: Observaciones y comentarios
B12: Contacto de la persona responsable de reportar el indicador
B13: Nombre | C13: Marlene Sandoval
B14: Puesto | C14: Coordinadora del Centro de Información
B15: Institución | C15: Instituto Nacional de Estadística y Censos
B16: Teléfono | C16: 22809280
B17: Correo electrónico | C17: marlene.sandoval@inec.go.cr

Sheet TBN
A1: 9 | B1: =+Indice!B12 -> Tasa bruta de natalidad | L1: ficha técnica
F3: Año | G3: Región de planificación
B4: Año | C4: Tasa | G4: Central | H4: Chorotega | I4: Pacífico Central | J4: Brunca | K4: Huetar Caribe | L4: Huetar Norte
B5: 2010 | C5: 15.642624 | F5: 2010 | G5: 14.485333 | H5: 19.376685 | I5: 15.649397 | J5: 16.947678 | K5: 19.644735 | L5: 15.505103 | M5: =(G11-G6)/G5*100 -> -10.20525 | N5: =(H11-H5)/H5*100 -> -19.55271 | O5: =(I11-I5)/I5*100 -> -7.0133303 | P5: =(J11-J5)/J5*100 -> -9.9588555 | Q5: =(K11-K5)/K5*100 -> -9.6621708 | R5: =(L11-L5)/L5*100 -> 12.776485
B6: 2011 | C6: 15.996657 | F6: 2011 | G6: 14.598847 | H6: 17.353269 | I6: 16.816787 | J6: 18.052546 | K6: 19.610893 | L6: 19.202309
B7: 2012 | C7: 15.760725 | F7: 2012 | G7: 14.284452 | H7: 17.095783 | I7: 15.697242 | J7: 17.681106 | K7: 20.225183 | L7: 19.381557
B8: 2013 | C8: 14.968713 | F8: 2013 | G8: 13.676151 | H8: 16.105988 | I8: 15.253699 | J8: 15.843137 | K8: 19.208149 | L8: 18.277857
B9: 2014 | C9: 15.041108 | F9: 2014 | G9: 13.670786 | H9: 16.614379 | I9: 15.227542 | J9: 16.750677 | K9: 18.701107 | L9: 18.449099
B10: 2015 | C10: 14.862505 | F10: 2015 | G10: 13.626218 | H10: 16.055611 | I10: 14.907839 | J10: 15.928493 | K10: 18.723343 | L10: 18.024555
B11: 2016 | C11: 14.314657 | F11: 2016 | G11: 13.120583 | H11: 15.588018 | I11: 14.551853 | J11: 15.259883 | K11: 17.746627 | L11: 17.48611
B12: Fuente: INEC, Estadísticas Vitales.
B15: Por favor incluya, en el recuadro de abajo una pequeña interpretación del dato en términos de su comportamiento reciente y tendencia, así como algún elemento que considere importante para explicar dicho comportamiento.
B17: Interpretación
B18: Costa Rica ha experimentado una disminución sostenida de la fecundidad, lo cual impacta directamente en la natalidad, en los últimos 7 años, nacieron, aproximadamente, dos niños o niñas menos por cada mil habitantes, es decir, en 2010 nacían 16 niños o niñas por cada mil habitantes y en el 2016 esta relación pasó a 14. Al analizar el comportamiento de la natalidad a nivel de regiones, se observa que este patrón de descenso no es para todas las regiones. La Región Brunca muestra un comportamiento irregular y en menor medida la Huetar Norte. También llama la atención que para el 2016, si bien la Región Central, la Pacífico Central y la Brunca son las que presentan la tasa bruta de natalidad más baja, son las regiones Chorotega y Central las que ha experimentaron una disminución más acelerada.

Sheet Ficha_TBN
B2: FICHA TÉCNICA DE INDICADOR
B4: Nombre del indicador | C4: =+TBN!B1 -> Tasa bruta de natalidad
B5: Definición conceptual | C5: Se define como la relación entre los nacimientos ocurridos en un tiempo y lugar determinados en relación a la población total de ese lugar y en es momento.
B6: Fórmula de cálculo
B7: Unidad de medida | C7: Tasa
B8: Datos requeridos | C8: Nacimientos y población total
B9: Tipo de fuente de datos | C9: Estadísticas Vitales y Estimaciones y Proyecciones de Población
B10: Persona responsable de la fuente de datos | C10: Olga Martha Araya Umaña
B11: Observaciones y comentarios
B12: Contacto de la persona responsable de reportar el indicador
B13: Nombre | C13: Marlene Sandoval
B14: Puesto | C14: Coordinadora del Centro de Información
B15: Institución | C15: Instituto Nacional de Estadística y Censos
B16: Teléfono | C16: 22809280
B17: Correo electrónico | C17: marlene.sandoval@inec.go.cr

Sheet TBM
A1: 10 | B1: =+Indice!B13 -> Tasa bruta de mortalidad | L1: ficha técnica
F3: Año | G3: Región de Planificación
B4: Año | C4: Tasa | G4: Central | H4: Chorotega | I4: Pacífico Central | J4: Brunca | K4: Huetar Caribe | L4: Huetar Norte
B5: 2010 | C5: 4.2076414 | F5: 2010 | G5: 4.3994447 | H5: 5.0524668 | I5: 4.4350992 | J5: 4.1035189 | K5: 3.7210975 | L5: 2.3227433
B6: 2011 | C6: 4.0941634 | F6: 2011 | G6: 4.3167195 | H6: 4.2981949 | I6: 4.1477581 | J6: 3.8268866 | K6: 3.6582046 | L6: 2.8217134
B7: 2012 | C7: 4.126857 | F7: 2012 | G7: 4.2835821 | H7: 4.4978329 | I7: 4.221265 | J7: 3.987168 | K7: 3.7802286 | L7: 2.9762562
B8: 2013 | C8: 4.1683251 | F8: 2013 | G8: 4.3772517 | H8: 4.4556888 | I8: 4.2067707 | J8: 3.9600765 | K8: 3.6636539 | L8: 2.9777923
B9: 2014 | C9: 4.307456 | F9: 2014 | G9: 4.499365 | H9: 4.6655866 | I9: 4.7163988 | J9: 4.0634083 | K9: 3.6159522 | L9: 3.1680806
B10: 2015 | C10: 4.3536862 | F10: 2015 | G10: 4.5494929 | H10: 4.8667458 | I10: 4.5134153 | J10: 4.0943056 | K10: 3.8014131 | L10: 3.0816761
B11: 2016 | C11: 4.6215298 | F11: 2016 | G11: 4.8117352 | H11: 5.1592057 | I11: 4.7171468 | J11: 4.3500774 | K11: 4.0932729 | L11: 3.4090011
B12: Fuente: INEC, Estadísticas Vitales
B15: Por favor incluya, en el recuadro de abajo una pequeña interpretación del dato en términos de su comportamiento reciente y tendencia, así como algún elemento que considere importante para explicar dicho comportamiento.
B17: Interpretación
B18: La mortalidad en el país ha experimentado un leve aumento, producto del proceso de envejecimiento de la población, el cual se explica principalmente por un descenso de las tasas de fecundidad y un aumento de la esperanza de vida de la población. En los últimos siete años se tiene una muerte más por cada mil habitantes. Este patrón de crecimiento de la TBM se observa también en las seis regiones, si bien las regiones Huetar Norte y Huetar Caribe presentan lasa tasas más bajas, su ritmo de crecimiento ha sido más acelerado.

Sheet Ficha_TBM
B2: FICHA TÉCNICA DE INDICADOR
B4: Nombre del indicador | C4: =+TBM!B1 -> Tasa bruta de mortalidad
B5: Definición conceptual | C5: Se define como la relación entre las defunciones ocurridas en un tiempo y lugar determinados en relación a la población total de ese lugar y en es momento.
B6: Fórmula de cálculo
B7: Unidad de medida | C7: Tasa
B8: Datos requeridos | C8: Defunciones y población total
B9: Tipo de fuente de datos | C9: Estadísticas Vitales y Estimaciones y Proyecciones de Población
B10: Persona responsable de la fuente de datos | C10: Olga Martha Araya Umaña
B11: Observaciones y comentarios
B12: Contacto de la persona responsable de reportar el indicador
B13: Nombre | C13: Marlene Sandoval
B14: Puesto | C14: Coordinadora del Centro de Información
B15: Institución | C15: Instituto Nacional de Estadística y Censos
B16: Teléfono | C16: 22809280
B17: Correo electrónico | C17: marlene.sandoval@inec.go.cr

Sheet TGF
A1: 11 | B1: =+Indice!B14 -> Tasa global de fecundidad | L1: ficha técnica
F3: Año | G3: Región de Planificación
B4: Año | C4: Tasa | G4: Central | H4: Chorotega | I4: Pacífico Central | J4: Brunca | K4: Huetar Caribe | L4: Huetar Norte
B5: 2010 | C5: 1.81 | D5: =+(C11-C5)/C5*100 -> -5.7201978 | F5: 2010 | G5: 1.5301372 | H5: 2.0805965 | I5: 1.6585029 | J5: 1.9469881 | K5: 2.28187 | L5: 1.7720892 | N5: =+(G11-G5)/G5*100 -> -4.9513485 | O5: =+(H11-H5)/H5*100 -> -16.419488 | P5: =+(I11-I5)/I5*100 -> -3.1974103 | Q5: =+(J11-J5)/J5*100 -> -9.353222 | R5: =+(K11-K5)/K5*100 -> -8.3468296 | S5: =+(L11-L5)/L5*100 -> 11.353591
B6: 2011 | C6: 1.8585685 | F6: 2011 | G6: 1.5449516 | H6: 2.139338 | I6: 1.7683047 | J6: 2.0653625 | K6: 2.3679676 | L6: 1.7717368
B7: 2012 | C7: 1.8402489 | F7: 2012 | G7: 1.5150106 | H7: 2.116125 | I7: 1.6644313 | J7: 2.0239765 | K7: 2.4423448 | L7: 1.7779512
B8: 2013 | C8: 1.7561164 | F8: 2013 | G8: 1.4652544 | H8: 2.0139974 | I8: 1.628449 | J8: 1.8174745 | K8: 2.3253198 | L8: 1.6764183
B9: 2014 | C9: 1.7740311 | F9: 2014 | G9: 1.4808707 | H9: 1.8278697 | I9: 1.6434139 | J9: 1.9232836 | K9: 2.1766554 | L9: 2.0801426
B10: 2015 | C10: 1.7632568 | F10: 2015 | G10: 1.4926104 | H10: 1.7751392 | I10: 1.6296748 | J10: 1.8362815 | K10: 2.1974602 | L10: 2.0366246
B11: 2016 | C11: 1.7064644 | F11: 2016 | G11: 1.4543748 | H11: 1.7389732 | I11: 1.6054738 | J11: 1.764882 | K11: 2.0914062 | L11: 1.9732849
B12: Fuente: INEC, Estadísticas Vitales
B15: Por favor incluya, en el recuadro de abajo una pequeña interpretación del dato en términos de su comportamiento reciente y tendencia, así como algún elemento que considere importante para explicar dicho comportamiento.
B17: Interpretación
B18: La tasa global de fecundidad corresponde a una medida hipotética del nivel de fecundidad de una población en un momento dado, se define como el número promedio de hijos e hijas que tendrían las mujeres al final del periodo reproductivo, si estuviese sometida a las tasas de fecundidad por edad observadas para un momento dado. El país ha experimentado una baja sostenida de la fecundidad, en los últimos 7 años este indicador ha disminuido en 5,7%. Al analizar este indicador por regiones, se observa el mismo patrón de disminución en la mayoría de las regiones, a excepción de la región Huetar Norte que ha presentado un comportamiento irregular. Este patrón de decrecimiento se ha presentado de manera más acelerada en las regiones Chorotega, Brunca y Huetar Caribe.

Sheet Ficha_TGF
