Workbook

Sheet Gasto Social
A1: MINISTERIO DE ECONOMÍA Y FINANZAS
A2: DIRECCIÓN DE ANÁLISIS ECONÓMICO Y SOCIAL
A3: INDICADORES DEL GASTO PUBLICO SOCIAL POR SECTORES: AÑOS 2000-2017
A5: Detalle | B5: 2000 | C5: 2001 | D5: 2002 | E5: 2003 | F5: 2004 | G5: 2005 | H5: 2006 | I5: 2007 | J5: 2008 | K5: 2009 | L5: 2010 | M5: 2011 | N5: 2012 (R) | O5: 2013 (R) | P5: 2014 (R) | Q5: 2015 (R) | R5: 2016 (R) | S5: 2017(P)
A7: Población (estimación al 1 de julio) | B7: 3040701 | C7: 3102268 | D7: 3164354 | E7: 3226535 | F7: 3288733 | G7: 3351007 | H7: 3413399 | I7: 3475741 | J7: 3537986 | K7: 3600000 | L7: 3661835 | M7: 3723821 | N7: 3787511 | O7: 3850735 | P7: 3913275 | Q7: 3975404 | R7: 4037043 | S7: 4098135
A9: Relaciones del Total del Gasto público social:
A10: Gasto Público Social (GPS) en millones de balboas 1/ | B10: 2019.8748 | C10: 2049.7711 | D10: 2170.0364 | E10: 2174.5157 | F10: 2433.9381 | G10: 2408.1923 | H10: 2886.8287 | I10: 3276.0278 | J10: 3890.6711 | K10: 4118.1478 | L10: 5041.3373 | M10: =M11+M12 -> 5549.5114 | N10: =N11+N12 -> 6264.3504 | O10: =O11+O12 -> 7493.9739 | P10: =P11+P12 -> 7590.0742 | Q10: =Q11+Q12 -> 7642.8024 | R10: =R11+R12 -> 7861.2731 | S10: =S11+S12 -> 8626.4815
A11: Funcionamiento | B11: 1706.8345 | C11: 1715.2871 | D11: 1882.8464 | E11: 1989.3333 | F11: 2137.3572 | G11: 2175.9643 | H11: 2368.3027 | I11: 2630.1746 | J11: 2910.5289 | K11: 3214.175 | L11: 3386.4983 | M11: ='[1]YO IyF'!N6/1000 -> 3704.9602 | N11: ='[1]YO IyF'!O6/1000 -> 4027.4916 | O11: ='[1]YO IyF'!P6/1000 -> 4438.6255 | P11: ='[1]YO IyF'!Q6/1000 -> 4845.612 | Q11: ='[1]YO IyF'!R6/1000 -> 5258.9968 | R11: ='[1]YO IyF'!S6/1000 -> 5695.5775 | S11: ='[1]YO IyF'!T6/1000 -> 5836.285
A12: Inversión | B12: 313.04028 | C12: 334.484 | D12: 287.19 | E12: 185.1824 | F12: 296.5809 | G12: 232.228 | H12: 518.526 | I12: 645.8532 | J12: 980.1422 | K12: 903.9728 | L12: 1654.839 | M12: ='[1]YO IyF'!N7/1000 -> 1844.5512 | N12: ='[1]YO IyF'!O7/1000 -> 2236.8588 | O12: ='[1]YO IyF'!P7/1000 -> 3055.3484 | P12: ='[1]YO IyF'!Q7/1000 -> 2744.4622 | Q12: ='[1]YO IyF'!R7/1000 -> 2383.8056 | R12: ='[1]YO IyF'!S7/1000 -> 2165.6956 | S12: ='[1]YO IyF'!T7/1000 -> 2790.1966
A13: Variación absoluta (en millones de balboas):
A14: GPS | C14: =+C10-B10 -> 29.896318 | D14: =+D10-C10 -> 120.2653 | E14: =+E10-D10 -> 4.4793 | F14: =+F10-E10 -> 259.4224 | G14: =+G10-F10 -> -25.7458 | H14: =+H10-G10 -> 478.6364 | I14: =+I10-H10 -> 389.1991 | J14: =+J10-I10 -> 614.6433 | ... S14: =+S10-R10 -> 765.20848
A15: Funcionamiento | C15: =+C11-B11 -> 8.4526 | D15: =+D11-C11 -> 167.5593 | E15: =+E11-D11 -> 106.4869 | F15: =+F11-E11 -> 148.0239 | G15: =+G11-F11 -> 38.6071 | H15: =+H11-G11 -> 192.3384 | I15: =+I11-H11 -> 261.8719 | J15: =+J11-I11 -> 280.3543 | ... S15: =+S11-R11 -> 140.70751
A16: Inversión | C16: =+C12-B12 -> 21.443718 | D16: =+D12-C12 -> -47.294 | E16: =+E12-D12 -> -102.0076 | F16: =+F12-E12 -> 111.3985 | G16: =+G12-F12 -> -64.3529 | H16: =+H12-G12 -> 286.298 | I16: =+I12-H12 -> 127.3272 | J16: =+J12-I12 -> 334.289 | ... S16: =+S12-R12 -> 624.50097
A17: Variación porcentual:
A18: GPS | C18: =((+C10/+B10)-1)*100 -> 1.4801075 | D18: =((+D10/+C10)-1)*100 -> 5.8672551 | E18: =((+E10/+D10)-1)*100 -> 0.20641589 | F18: =((+F10/+E10)-1)*100 -> 11.930123 | G18: =((+G10/+F10)-1)*100 -> -1.0577837 | H18: =((+H10/+G10)-1)*100 -> 19.87534 | I18: =((+I10/+H10)-1)*100 -> 13.481891 | J18: =((+J10/+I10)-1)*100 -> 18.761846 | ... S18: =((+S10/+R10)-1)*100 -> 9.7339003
A19: Funcionamiento | C19: =((+C11/+B11)-1)*100 -> 0.49522083 | D19: =((+D11/+C11)-1)*100 -> 9.7685863 | E19: =((+E11/+D11)-1)*100 -> 5.6556339 | F19: =((+F11/+E11)-1)*100 -> 7.4408798 | G19: =((+G11/+F11)-1)*100 -> 1.8063008 | H19: =((+H11/+G11)-1)*100 -> 8.8392259 | I19: =((+I11/+H11)-1)*100 -> 11.057366 | J19: =((+J11/+I11)-1)*100 -> 10.659152 | ... S19: =((+S11/+R11)-1)*100 -> 2.4704697
A20: Inversión | C20: =((+C12/+B12)-1)*100 -> 6.8501465 | D20: =((+D12/+C12)-1)*100 -> -14.139391 | E20: =((+E12/+D12)-1)*100 -> -35.519203 | F20: =((+F12/+E12)-1)*100 -> 60.156095 | G20: =((+G12/+F12)-1)*100 -> -21.698262 | H20: =((+H12/+G12)-1)*100 -> 123.28315 | I20: =((+I12/+H12)-1)*100 -> 24.555606 | J20: =((+J12/+I12)-1)*100 -> 51.759285 | ... S20: =((+S12/+R12)-1)*100 -> 28.836045
A22: Composición porcentual del GPS: | B22: =SUM(B23:B24) -> 100 | C22: =SUM(C23:C24) -> 100 | D22: =SUM(D23:D24) -> 100 | E22: =SUM(E23:E24) -> 100 | F22: =SUM(F23:F24) -> 100 | G22: =SUM(G23:G24) -> 100 | H22: =SUM(H23:H24) -> 100 | I22: =SUM(I23:I24) -> 100 | ... S22: =SUM(S23:S24) -> 100
A23: Funcionamiento | B23: =+B11/+B10*100 -> 84.501996 | C23: =+C11/+C10*100 -> 83.681885 | D23: =+D11/+D10*100 -> 86.76566 | E23: =+E11/+E10*100 -> 91.48397 | F23: =+F11/+F10*100 -> 87.814772 | G23: =+G11/+G10*100 -> 90.35675 | H23: =+H11/+H10*100 -> 82.038214 | I23: =+I11/+I10*100 -> 80.285479 | ... S23: =+S11/+S10*100 -> 67.655451
A24: Inversión | B24: =+B12/+B10*100 -> 15.498004 | C24: =+C12/+C10*100 -> 16.318115 | D24: =+D12/+D10*100 -> 13.23434 | E24: =+E12/+E10*100 -> 8.5160296 | F24: =+F12/+F10*100 -> 12.185228 | G24: =+G12/+G10*100 -> 9.6432498 | H24: =+H12/+H10*100 -> 17.961786 | I24: =+I12/+I10*100 -> 19.714521 | ... S24: =+S12/+S10*100 -> 32.344549
A26: GPS per cápita (en balboas) | B26: 664.27932 | C26: 660.73308 | D26: 685.77549 | E26: 673.94766 | F26: 740.08383 | G26: 718.64735 | H26: 845.73433 | I26: 942.54083 | J26: 1099.6853 | K26: 1143.9299 | L26: 1376.7243 | M26: 1490.2734 | N26: 1653.9491 | O26: 1946.1152 | P26: 1939.5709 | Q26: 1922.5222 | R26: 1947.2849 | S26: 2104.9774
A28: GPS, según clasificación sectorial institucional:
A29: Detalle | B29: 2000 | C29: 2001 | D29: 2002 | E29: 2003 | F29: 2004 | G29: 2005 | H29: 2006 | I29: 2007 | J29: 2008 | K29: 2009 | L29: 2010 | M29: 2011 | N29: 2012 | O29: 2013 | P29: 2014 | Q29: 2015 | R29: 2016 | S29: 2017
A30: Gasto Público Social (GPS) en millones de balboas 3/ | B30: 2019.8748 | C30: 2049.7711 | D30: 2170.0364 | E30: 2174.5157 | F30: 2433.9381 | G30: 2408.1923 | H30: 2886.8287 | I30: 3276.0278 | J30: 3890.6711 | K30: 4118.1478 | L30: 5041.3359 | M30: =SUM(M31:M35) -> 5549.5114 | N30: =SUM(N31:N35) -> 6264.3504 | O30: =SUM(O31:O35) -> 7493.9739 | P30: =SUM(P31:P35) -> 7590.0742 | Q30: =SUM(Q31:Q35) -> 7642.8024 | R30: =SUM(R31:R35) -> 7861.2731 | S30: 8712.637
A31: Gasto público social en Educación y Cultura | B31: 567.0762 | C31: 580.114 | D31: 589.202 | E31: 586.6246 | F31: 607.1809 | G31: 672.5723 | H31: 799.5017 | I31: 907.5609 | J31: 1107.6488 | K31: 1144.2647 | L31: 1203.504 | M31: 1298.1833 | N31: =[1]Educación!R10/1000 -> 1553.8518 | O31: =[1]Educación!S10/1000 -> 1602.7091 | P31: =[1]Educación!T10/1000 -> 1777.4199 | Q31: =[1]Educación!U10/1000 -> 2082.8736 | R31: =[1]Educación!V10/1000 -> 2122.5982 | S31: 2306.9622
A32: Gasto público social en Salud | B32: 704.79658 | C32: 684.223 | D32: 798.138 | E32: 698.425 | F32: 806.5755 | G32: 847.6674 | H32: 900.9863 | I32: 1022.806 | J32: 1220.4849 | K32: 1319.4278 | L32: 1515.463 | M32: 1681.9071 | N32: =[1]Salud!R10/1000 -> 1886.6028 | O32: =[1]Salud!S10/1000 -> 2236.9736 | P32: =[1]Salud!T10/1000 -> 2721.6141 | Q32: =[1]Salud!U10/1000 -> 2826.7255 | R32: =[1]Salud!V10/1000 -> 2768.6198 | S32: 3083.2493
A33: Gasto público social en Trabajo y Seguridad Social | B33: 605.966 | C33: 619.5697 | D33: 612.0754 | E33: 770.4145 | F33: 853.7401 | G33: 780.0187 | H33: 899.7208 | I33: 1028.8112 | J33: 1060.1813 | K33: 1196.7035 | L33: 1321.059 | M33: 1380.9598 | N33: =[1]Trabajo!R10/1000 -> 1442.167 | O33: =[1]Trabajo!S10/1000 -> 1525.8298 | P33: =[1]Trabajo!T10/1000 -> 1592.3265 | Q33: =[1]Trabajo!U10/1000 -> 1716.747 | R33: =[1]Trabajo!V10/1000 -> 1749.0951 | S33: 1866.4845
A34: Gasto público social en Vivienda | B34: 47.533 | C34: 37.0884 | D34: 33.934 | E34: 21.5063 | F34: 31.7805 | G34: 28.1728 | H34: 36.6669 | I34: 52.9373 | J34: 47.2941 | K34: 54.3061 | L34: 107.86513 | M34: 146.84488 | N34: =[1]Vivienda!R10/1000 -> 147.67347 | O34: =[1]Vivienda!S10/1000 -> 151.35664 | P34: =[1]Vivienda!T10/1000 -> 102.60873 | Q34: =[1]Vivienda!U10/1000 -> 222.62997 | R34: =[1]Vivienda!V10/1000 -> 412.5593 | S34: 503.26342
A35: Gasto público social en Multisocial | B35: 94.503 | C35: 128.776 | D35: 136.687 | E35: 97.5453 | F35: 134.6611 | G35: 79.7611 | H35: 249.953 | I35: 263.9124 | J35: 455.062 | K35: 403.4457 | L35: 893.44478 | M35: 1041.6164 | N35: =[1]Multisocial!R10/1000 -> 1234.0553 | O35: =[1]Multisocial!S10/1000 -> 1977.1048 | P35: =[1]Multisocial!T10/1000 -> 1396.105 | Q35: =[1]Multisocial!U10/1000 -> 793.82627 | R35: =[1]Multisocial!V10/1000 -> 808.40065 | S35: 952.67754
A36: Composición sectorial del GPS (%): | B36: =SUM(B37:B41) -> 100 | C36: =SUM(C37:C41) -> 100 | D36: =SUM(D37:D41) -> 100 | E36: =SUM(E37:E41) -> 100 | F36: =SUM(F37:F41) -> 100 | G36: =SUM(G37:G41) -> 100 | H36: =SUM(H37:H41) -> 100 | I36: =SUM(I37:I41) -> 100 | ... R36: =SUM(R37:R41) -> 100 | S36: 100
A37: Gasto público social en Educación y Cultura | B37: =+B31/+B30*100 -> 28.07482 | C37: =+C31/+C30*100 -> 28.301404 | D37: =+D31/+D30*100 -> 27.15171 | E37: =+E31/+E30*100 -> 26.977253 | F37: =+F31/+F30*100 -> 24.94644 | G37: =+G31/+G30*100 -> 27.928513 | H37: =+H31/+H30*100 -> 27.694809 | I37: =+I31/+I30*100 -> 27.703089 | ... R37: =+R31/+R30*100 -> 27.000693 | S37: 26.478347
A38: Gasto público social en Salud | B38: =+B32/+B30*100 -> 34.893083 | C38: =+C32/+C30*100 -> 33.380459 | D38: =+D32/+D30*100 -> 36.779936 | E38: =+E32/+E30*100 -> 32.118646 | F38: =+F32/+F30*100 -> 33.138702 | G38: =+G32/+G30*100 -> 35.199324 | H38: =+H32/+H30*100 -> 31.210245 | I38: =+I32/+I30*100 -> 31.220919 | ... R38: =+R32/+R30*100 -> 35.218466 | S38: 35.388245
A39: Gasto público social en Trabajo y Seguridad Social | B39: =+B33/+B30*100 -> 30.000177 | C39: =+C33/+C30*100 -> 30.226287 | D39: =+D33/+D30*100 -> 28.205767 | E39: =+E33/+E30*100 -> 35.429245 | F39: =+F33/+F30*100 -> 35.076492 | G39: =+G33/+G30*100 -> 32.390217 | H39: =+H33/+H30*100 -> 31.166408 | I39: =+I33/+I30*100 -> 31.404227 | ... R39: =+R33/+R30*100 -> 22.249515 | S39: 21.422728
A40: Gasto público social en Vivienda | B40: =+B34/+B30*100 -> 2.3532647 | C40: =+C34/+C30*100 -> 1.8093923 | D40: =+D34/+D30*100 -> 1.5637526 | E40: =+E34/+E30*100 -> 0.98901562 | F40: =+F34/+F30*100 -> 1.3057234 | G40: =+G34/+G30*100 -> 1.1698734 | H40: =+H34/+H30*100 -> 1.2701446 | I40: =+I34/+I30*100 -> 1.615899 | ... R40: =+R34/+R30*100 -> 5.2479961 | S40: 5.7762468
A41: Gasto público social en Multisocial | B41: =+B35/+B30*100 -> 4.6786564 | C41: =+C35/+C30*100 -> 6.2824576 | D41: =+D35/+D30*100 -> 6.2988344 | E41: =+E35/+E30*100 -> 4.4858402 | F41: =+F35/+F30*100 -> 5.5326428 | G41: =+G35/+G30*100 -> 3.3120735 | H41: =+H35/+H30*100 -> 8.6583939 | I41: =+I35/+I30*100 -> 8.0558657 | ... R41: =+R35/+R30*100 -> 10.28333 | S41: 10.934434
A42: Variación absoluta (en millones de balboas): | C42: 29.896318 | D42: 120.2653 | E42: 4.4793 | F42: 259.4224 | G42: -25.7458 | H42: 478.6364 | I42: 389.1991 | J42: 614.6433 | K42: 227.4767 | L42: =L30-K30 -> 923.18811 | M42: =M30-L30 -> 508.1755 | N42: =N30-M30 -> 714.83904 | O42: =O30-N30 -> 1229.6235 | P42: =P30-O30 -> 96.100243 | Q42: =Q30-P30 -> 52.728203 | R42: =R30-Q30 -> 218.47068 | S42: 851.36393
A43: Gasto público social en Educación y Cultura | C43: =+C31-B31 -> 13.0378 | D43: =+D31-C31 -> 9.088 | E43: =+E31-D31 -> -2.5774 | F43: =+F31-E31 -> 20.5563 | G43: =+G31-F31 -> 65.3914 | H43: =+H31-G31 -> 126.9294 | I43: =+I31-H31 -> 108.0592 | J43: =+J31-I31 -> 200.0879 | K43: =+K31-J31 -> 36.6159 | L43: =L31-K31 -> 59.2393 | M43: =M31-L31 -> 94.679259 | N43: =N31-M31 -> 255.66853 | O43: =O31-N31 -> 48.857295 | P43: =P31-O31 -> 174.71079 | Q43: =Q31-P31 -> 305.45369 | R43: =R31-Q31 -> 39.724621 | S43: 184.36403
A44: Gasto público social en Salud | C44: =+C32-B32 -> -20.573582 | D44: =+D32-C32 -> 113.915 | E44: =+E32-D32 -> -99.713 | F44: =+F32-E32 -> 108.1505 | G44: =+G32-F32 -> 41.0919 | H44: =+H32-G32 -> 53.3189 | I44: =+I32-H32 -> 121.8197 | J44: =+J32-I32 -> 197.6789 | K44: =+K32-J32 -> 98.9429 | L44: =L32-K32 -> 196.0352 | M44: =M32-L32 -> 166.44411 | N44: =N32-M32 -> 204.69571 | O44: =O32-N32 -> 350.37082 | P44: =P32-O32 -> 484.64042 | Q44: =Q32-P32 -> 105.11147 | R44: =R32-Q32 -> -58.105767 | S44: 314.62953
A45: Gasto público social en Trabajo y Seguridad Social | C45: =+C33-B33 -> 13.6037 | D45: =+D33-C33 -> -7.4943 | E45: =+E33-D33 -> 158.3391 | F45: =+F33-E33 -> 83.3256 | G45: =+G33-F33 -> -73.7214 | H45: =+H33-G33 -> 119.7021 | I45: =+I33-H33 -> 129.0904 | J45: =+J33-I33 -> 31.3701 | K45: =+K33-J33 -> 136.5222 | L45: =L33-K33 -> 124.3555 | M45: =M33-L33 -> 59.900772 | N45: =N33-M33 -> 61.207275 | O45: =O33-N33 -> 83.662726 | P45: =P33-O33 -> 66.496743 | Q45: =Q33-P33 -> 124.42051 | R45: =R33-Q33 -> 32.348109 | S45: 117.38936
A46: Gasto público social en Vivienda | C46: =+C34-B34 -> -10.4446 | D46: =+D34-C34 -> -3.1544 | E46: =+E34-D34 -> -12.4277 | F46: =+F34-E34 -> 10.2742 | G46: =+G34-F34 -> -3.6077 | H46: =+H34-G34 -> 8.4941 | I46: =+I34-H34 -> 16.2704 | J46: =+J34-I34 -> -5.6432 | K46: =+K34-J34 -> 7.012 | L46: =L34-K34 -> 53.559032 | M46: =M34-L34 -> 38.979749 | N46: =N34-M34 -> 0.828586 | O46: =O34-N34 -> 3.683177 | P46: =P34-O34 -> -48.747918 | Q46: =Q34-P34 -> 120.02124 | R46: =R34-Q34 -> 189.92934 | S46: 90.704113
...

Sheet Gasto directo infancia
A1: MINISTERIO DE ECONOMÍA Y FINANZAS
A2: DIRECCIÓN DE ANÁLISIS ECONÓMICO Y SOCIAL
A3: INDICADORES DEL GASTO PÚBLICO SOCIAL DIRECTO EN PROGRAMAS DIRIGIDOS A LOS NIÑOS, NIÑAS Y ADOLESCENTES, POR SECTORES: AÑOS 2017 (P): (En Balboas)
A5: SECTOR DE LA ACTIVIDAD ECONOMICA | B5: PRESUPUESTO LEY 1 | C5: CREDITO ADICIONAL 2 | D5: PRESUPUESTO MODIFICADO | E5: EJECUTADO | F5: Total de población de 0 a 17 años de edad Estimada al 1 de julio de 2017
F6: Total de población de 0 a 17 años de edad Estimada al 1 de julio de 2017
A7: Gasto Directo Per Cápita por niño, niña y adolescente | B7: =B9/$F$7 -> 1963.1199 | C7: =C9/$F$7 -> 26.060965 | D7: =D9/$F$7 -> 1989.1809 | E7: =E9/$F$7 -> 1784.9068 | F7: 1014492
A9: TOTAL (En Balboas) | B9: =B11+B29+B46 -> 1.9915695e+09 | C9: =C11+C29+C46 -> 26438640 | D9: =D11+D29+D46 -> 2.0180081e+09 | E9: =E11+E29+E46 -> 1.8107736e+09
A11: Total Educación | B11: =B13+B18+B23 -> 1.7413454e+09 | C11: =C13+C18+C23 -> 12918136 | D11: =D13+D18+D23 -> 1.7542635e+09 | E11: =E13+E18+E23 -> 1.6530188e+09
A13: Ministerio de Educación | B13: =SUM(B14:B16) -> 1.4121561e+09 | C13: =SUM(C14:C16) -> 10786587 | D13: =SUM(D14:D16) -> 1.4229427e+09 | E13: =SUM(E14:E16) -> 1.3280187e+09
A14: Funcionamiento | B14: 1.1166061e+09 | C14: 8531431 | D14: 1.1251376e+09 | E14: 1.0760177e+09
A15: Inversión | B15: 1.9247246e+08 | C15: 2255156 | D15: 1.9472762e+08 | E15: 1.4942238e+08
A16: Seguro Educativo | B16: 103077500 | C16: 0 | D16: 1.030775e+08 | E16: 1.0257865e+08
A18: IFARHU | B18: =B19+B20 -> 3.229674e+08 | C18: =C19+C20 -> 2414630 | D18: =D19+D20 -> 325382030 | E18: =E19+E20 -> 3.1986614e+08
A19: Funcionamiento | B19: 29901300 | C19: -5538983 | D19: 24362317 | E19: 20324419
A20: Inversión | B20: 2.930661e+08 | C20: 7953613 | D20: 301019713 | E20: 2.9954173e+08
A23: Instituto Panameño de Habilitación Especial | B23: 6221920 | C23: -283081 | D23: 5938839 | E23: 5133944.5
A24: Formación Vocacional | B24: 3141570 | C24: -119453 | D24: 3022117 | E24: 2968940.6
A25: Estimulacion Precoz | B25: 1744406 | C25: -56368 | D25: 1688038 | E25: 1658901
A26: Atención a la Primera Infancia | B26: 342844 | C26: -66540 | D26: 276304 | E26: 231799.09
A27: Otros Programas | B27: =B23-B24-B25-B26 -> 993100 | C27: =C23-C24-C25-C26 -> -40720 | D27: =D23-D24-D25-D26 -> 952380 | E27: =E23-E24-E25-E26 -> 274303.83
A29: Total Salud | B29: =B31+B39+B43 -> 227873696 | C29: =C31+C39+C43 -> 15354866 | D29: =D31+D39+D43 -> 243228562 | E29: =E31+E39+E43 -> 1.431309e+08
A31: Ministerio de salud | B31: 104096410 | C31: 15354866 | D31: 119451276 | E31: 55402415
A32: PRINCIPALES PROGRAMAS
A33: Patronato del Hospital Jose Domingo de Obaldia / Salud Materno-infantil | B33: 46828565 | C33: -2000 | D33: 46826565 | E33: 14617729
A34: Fortalecimiento Redes Integradas de Servicios de Salud / Salud Materno-infantil | B34: 19629500 | C34: 18000000 | D34: 37629500 | E34: 16033563
A35: Sección Niñez-Atención Integral Primera Infancia | B35: 9076447 | C35: -139917 | D35: 8936530 | E35: 7542484.5
A36: Sistema Regional de Herrera / Salud Materno-infantil | B36: 7739926 | C36: 879045 | D36: 8618971 | E36: 5774013.5
A37: Otros programas | B37: 20821972 | C37: -3382262 | D37: 17439710 | E37: 11434626
A39: Patronos y Otros (MINSA) | B39: 70990286 | C39: 0 | D39: 70990286 | E39: 42597772
A40: Patronato Nacional de Nutricion | B40: 2311324 | C40: 0 | D40: 2311324 | E40: 2080192
A41: Patronato Hospital del Niño | B41: 68678962 | C41: 0 | D41: 68678962 | E41: 40517580
A43: Caja del Seguro Social | B43: 52787000 | C43: 0 | D43: 52787000 | E43: 45130711
A44: Subsidio a la seguridad social por Maternidad | B44: 52787000 | C44: 0 | D44: 52787000 | E44: 45130711
A46: Total Protección Social | B46: =B48+B56+B63+B66+B69+B72+B77 -> 22350377 | C46: =C48+C56+C63+C66+C69+C72+C77 -> -1834362 | D46: =D48+D56+D63+D66+D69+D72+D77 -> 20516015 | E46: =E48+E56+E63+E66+E69+E72+E77 -> 14623924
A48: MINISTERIO DE DESARROLLO SOCIAL | B48: 12614077 | C48: -2748599 | D48: 9865478 | E48: 6799336.8
A49: PRINCIPALES PROGRAMAS
A50: Asistencia Alimentaria Bono Nutricional | B50: 5761084 | C50: -9522 | D50: 5751562 | E50: 4255878.5
A51: Construcción de Infraestructuras(Primera Infancia) | B51: 2087000 | C51: -1442867 | D51: 644133 | E51: 0
A52: Mejoramiento de Infraestructura (Primera Infancia) | B52: 1528620 | C52: -1481476 | D52: 47144 | E52: 33442.53
A53: Normas, estßndares y calidad de oferta (PAIPI) | B53: 1242696 | C53: -93974 | D53: 1148722 | E53: 879679.73
...

Sheet Presupuesto Seniaf
A2: MINISTERIO DE ECONOMIA Y FINANZAS
A3: DIRECCION DE ANÁLISIS ECONÓMICO Y SOCIAL
A4: (En Miles de Balboas)
A6: ENTIDAD | B6: 2010 | C6: 2011 | D6: 2012 | E6: 2013 | F6: 2014 | G6: 2015 | H6: 2016 | I6: 2017 (P) | K6: Variación porcentual 2017 presupuesto ley / 2010 | L6: Variación porcentual 2017 presupuesto ley / 2015
I7: Presupuesto Ley | J7: Ejecutado al 31 de diciembre
A8: Secretaría Nacional de Niñez, Adolescencia y Familia | B8: =B9+B10 -> 1910.167 | C8: =C9+C10 -> 2854.668 | D8: =D9+D10 -> 3665.784 | E8: =E9+E10 -> 3861.289 | F8: =F9+F10 -> 3578.715 | G8: =G9+G10 -> 3784.9988 | H8: =H9+H10 -> 4303.3397 | I8: 6961.8 | J8: 5799.0418 | K8: =(I8-B8)/B8*100 -> 264.46028 | L8: =(I8-G8)/G8*100 -> 83.931368
A9: Funcionamiento | B9: 1506.516 | C9: 2137.164 | D9: 3005.663 | E9: 3083.373 | F9: 3391.158 | G9: 3598.7426 | H9: 3836.0568 | I9: 6224.7 | J9: 5454.2478 | K9: =(I9-B9)/B9*100 -> 313.18512 | L9: =(I9-G9)/G9*100 -> 72.968746
A10: Inversión | B10: 403.651 | C10: 717.504 | D10: 660.121 | E10: 777.916 | F10: 187.557 | G10: 186.25614 | H10: 467.28293 | I10: 737.1 | J10: 344.79403 | K10: =(I10-B10)/B10*100 -> 82.608243 | L10: =(I10-G10)/G10*100 -> 295.74534
A11: Fuente: Elaborado en el Departamento de Análisis Social de la Dirección de Análisis Económico y Social del Ministerio de Economía y Finanzas, con base en información proporcionada por la Dirección de Presupuesto de la Nación del MEF

Sheet Hoja1
