Workbook

Sheet Cuadro 1.1
B1: GASTOS FUNERALES
B2: INFORMACIÓN | C2: 1.1 CANTIDAD DE SOLICITUDES DE GASTOS FUNERALES DEL FRUV
C3: POR MESES
B4: PERIODO | C4: Histórico (Del 01 de enero de 2014 al Al 31 de Diciembre de 2019)
B8: CANTIDAD DE SOLICITUDES DE GASTOS FUNERALES DEL FRUV
B9: MESES | D9: DEPARTAMENTOS | M9: TOTAL
D10: CHUQUISACA | E10: LA PAZ | F10: COCHABAMBA | G10: ORURO | H10: POTOSI | I10: TARIJA | J10: SANTA CRUZ | K10: BENI | L10: PANDO
B12: ENERO 2014 | D12: 172 | E12: 722 | F12: 438 | G12: 124 | H12: 164 | I12: 129 | J12: 464 | K12: 68 | L12: 11 | M12: =SUM(C12:L12) -> 2292
B13: FEBERO 2014 | D13: 140 | E13: 663 | F13: 355 | G13: 128 | H13: 136 | I13: 100 | J13: 387 | K13: 65 | L13: 9 | M13: =SUM(C13:L13) -> 1983
B14: MARZO 2014 | D14: 166 | E14: 660 | F14: 405 | G14: 113 | H14: 134 | I14: 100 | J14: 403 | K14: 63 | L14: 6 | M14: =SUM(C14:L14) -> 2050
B15: ABRIL 2014 | D15: 121 | E15: 628 | F15: 394 | G15: 133 | H15: 128 | I15: 100 | J15: 462 | K15: 75 | L15: 6 | M15: =SUM(C15:L15) -> 2047
B16: MAYO 2014 | D16: 150 | E16: 678 | F16: 374 | G16: 120 | H16: 151 | I16: 105 | J16: 400 | K16: 64 | L16: 8 | M16: =SUM(C16:L16) -> 2050
B17: JUNIO 2014 | D17: 134 | E17: 657 | F17: 376 | G17: 124 | H17: 105 | I17: 111 | J17: 437 | K17: 73 | L17: 7 | M17: =SUM(C17:L17) -> 2024
B18: JULIO 2014 | D18: 183 | E18: 831 | F18: 495 | G18: 154 | H18: 160 | I18: 127 | J18: 521 | K18: 93 | L18: 6 | M18: =SUM(C18:L18) -> 2570
B19: AGOSTO 2014 | D19: 143 | E19: 728 | F19: 409 | G19: 144 | H19: 179 | I19: 111 | J19: 467 | K19: 80 | L19: 3 | M19: =SUM(C19:L19) -> 2264
B20: SEPTIEMBRE 2014 | D20: 148 | E20: 739 | F20: 458 | G20: 146 | H20: 168 | I20: 123 | J20: 450 | K20: 92 | L20: 4 | M20: =SUM(C20:L20) -> 2328
B21: OCTUBRE 2014 | D21: 156 | E21: 725 | F21: 455 | G21: 137 | H21: 168 | I21: 122 | J21: 521 | K21: 75 | L21: 6 | M21: =SUM(C21:L21) -> 2365
B22: NOVIEMBRE 2014 | D22: 122 | E22: 641 | F22: 420 | G22: 130 | H22: 155 | I22: 110 | J22: 481 | K22: 62 | L22: 3 | M22: =SUM(C22:L22) -> 2124
B23: DICIEMBRE 2014 | D23: 177 | E23: 703 | F23: 439 | G23: 121 | H23: 140 | I23: 139 | J23: 378 | K23: 65 | L23: 7 | M23: =SUM(C23:L23) -> 2169
... B58: NOVIEMBRE 2017 | D58: 159 | E58: 683 | F58: 459 | G58: 128 | H58: 171 | I58: 132 | J58: 426 | K58: 87 | L58: 10 | M58: =SUM(C58:L58) -> 2255
B59: DICIEMBRE 2017 | D59: 138 | E59: 625 | F59: 394 | G59: 120 | H59: 123 | I59: 93 | J59: 409 | K59: 67 | L59: 4 | M59: =SUM(D59:L59) -> 1973
B60: ENERO 2018 | D60: 130 | E60: 732 | F60: 437 | G60: 148 | H60: 176 | I60: 81 | J60: 583 | K60: 100 | L60: 7 | M60: =SUM(D60:L60) -> 2394
B61: FEBRERO 2018 | D61: 124 | E61: 661 | F61: 369 | G61: 122 | H61: 143 | I61: 150 | J61: 451 | K61: 81 | L61: 12 | M61: =SUM(D61:L61) -> 2113
B62: MARZO 2018 | D62: 143 | E62: 741 | F62: 434 | G62: 161 | H62: 161 | I62: 112 | J62: 528 | K62: 103 | L62: 13 | M62: =SUM(D62:L62) -> 2396
B63: ABRIL 2018 | D63: 134 | E63: 731 | F63: 448 | G63: 113 | H63: 143 | I63: 131 | J63: 474 | K63: 93 | L63: 4 | M63: =SUM(D63:L63) -> 2271
B64: MAYO 2018 | D64: 136 | E64: 747 | F64: 447 | G64: 136 | H64: 165 | I64: 109 | J64: 514 | K64: 88 | L64: 6 | M64: =SUM(D64:L64) -> 2348
B65: JUNIO 2018 | D65: 154 | E65: 738 | F65: 427 | G65: 134 | H65: 161 | I65: 142 | J65: 562 | K65: 79 | L65: 13 | M65: =SUM(D65:L65) -> 2410
B66: JULIO 2018 | D66: 189 | E66: 816 | F66: 513 | G66: 136 | H66: 165 | I66: 143 | J66: 548 | K66: 94 | L66: 9 | M66: =SUM(D66:L66) -> 2613
B67: AGOSTO 2018 | D67: 176 | E67: 924 | F67: 477 | G67: 161 | H67: 163 | I67: 144 | J67: 531 | K67: 87 | L67: 13 | M67: =SUM(D67:L67) -> 2676
B68: SEPTIEMBRE 2018 | D68: 161 | E68: 717 | F68: 416 | G68: 125 | H68: 172 | I68: 123 | J68: 477 | K68: 84 | L68: 5 | M68: =SUM(D68:L68) -> 2280
B69: OCTUBRE 2018 | D69: 144 | E69: 823 | F69: 418 | G69: 135 | H69: 157 | I69: 122 | J69: 552 | K69: 86 | L69: 13 | M69: =SUM(D69:L69) -> 2450
B70: NOVIEMBRE 2018 | D70: 158 | E70: 776 | F70: 462 | G70: 142 | H70: 137 | I70: 127 | J70: 550 | K70: 77 | L70: 9 | M70: =SUM(D70:L70) -> 2438
... B83: DICIEMBRE 2019 | D83: 171 | E83: 729 | F83: 367 | G83: 136 | H83: 202 | I83: 103 | J83: 459 | K83: 69 | L83: 600 | M83: =SUM(D83:L83) -> 2836
B84: TOTAL SOLICITUDES DE GASTOS FUNERALES | D84: =SUM(D12:D83) -> 11085 | E84: =SUM(E12:E83) -> 52085 | F84: =SUM(F12:F83) -> 31226 | G84: =SUM(G12:G83) -> 9887 | H84: =SUM(H12:H83) -> 11209 | I84: =SUM(I12:I83) -> 8929 | J84: =SUM(J12:J83) -> 34710 | K84: =SUM(K12:K83) -> 5820 | ... M84: =SUM(M12:M83) -> 166082
B87: Fuente: Base de Datos de Gastos Funerales del FRUV
B88: Elaborado en la DP - APS
B89: Fuente de Información Gestora.

Sheet Cuadro 1.2
B1: GASTOS FUNERALES
B2: INFORMACIÓN | C2: 1.2 CANTIDAD DE PAGOS DE GASTOS FUNERALES DEL FRUV
C3: POR MESES
B4: PERIODO | C4: Histórico (Del 01 de enero de 2014 al Al 31 de Diciembre de 2019)
B8: CANTIDAD DE PAGOS DE GASTOS FUNERALES DEL FRUV
B9: MESES | D9: DEPARTAMENTOS | M9: TOTAL
D10: CHUQUISACA | E10: LA PAZ | F10: COCHABAMBA | G10: ORURO | H10: POTOSI | I10: TARIJA | J10: SANTA CRUZ | K10: BENI | L10: PANDO
B12: ENERO 2014 | D12: 132 | E12: 639 | F12: 351 | G12: 122 | H12: 125 | I12: 107 | J12: 371 | K12: 62 | L12: 5 | M12: =SUM(D12:L12) -> 1914
B13: FEBRERO 2014 | D13: 142 | E13: 627 | F13: 359 | G13: 98 | H13: 142 | I13: 112 | J13: 397 | K13: 63 | L13: 9 | M13: =SUM(D13:L13) -> 1949
B14: MARZO 2014 | D14: 156 | E14: 721 | F14: 422 | G14: 147 | H14: 156 | I14: 111 | J14: 442 | K14: 74 | L14: 7 | M14: =SUM(D14:L14) -> 2236
B15: ABRIL 2014 | D15: 160 | E15: 623 | F15: 372 | G15: 106 | H15: 116 | I15: 107 | J15: 379 | K15: 55 | L15: 11 | M15: =SUM(D15:L15) -> 1929
B16: MAYO 2014 | D16: 130 | E16: 656 | F16: 405 | G16: 128 | H16: 133 | I16: 94 | J16: 477 | K16: 76 | L16: 4 | M16: =SUM(D16:L16) -> 2103
B17: JUNIO 2014 | D17: 131 | E17: 628 | F17: 350 | G17: 116 | H17: 140 | I17: 101 | J17: 394 | K17: 62 | L17: 7 | M17: =SUM(D17:L17) -> 1929
B18: JULIO 2014 | D18: 140 | E18: 679 | F18: 428 | G18: 125 | H18: 117 | I18: 114 | J18: 449 | K18: 84 | L18: 10 | M18: =SUM(D18:L18) -> 2146
B19: AGOSTO 2014 | D19: 151 | E19: 716 | F19: 415 | G19: 139 | H19: 130 | I19: 114 | J19: 466 | K19: 84 | L19: 5 | M19: =SUM(D19:L19) -> 2220
B20: SEPTIEMBRE 2014 | D20: 155 | E20: 814 | F20: 453 | G20: 159 | H20: 177 | I20: 134 | J20: 511 | K20: 92 | L20: 3 | M20: =SUM(D20:L20) -> 2498
B21: OCTUBRE 2014 | D21: 148 | E21: 744 | F21: 476 | G21: 155 | H21: 185 | I21: 119 | J21: 457 | K21: 97 | L21: 5 | M21: =SUM(D21:L21) -> 2386
B22: NOVIEMBRE 2014 | D22: 135 | E22: 622 | F22: 388 | G22: 117 | H22: 131 | I22: 112 | J22: 458 | K22: 63 | L22: 5 | M22: =SUM(D22:L22) -> 2031
B23: DICIEMBRE 2014 | D23: 121 | E23: 733 | F23: 463 | G23: 146 | H23: 168 | I23: 136 | J23: 523 | K23: 76 | L23: 4 | M23: =SUM(D23:L23) -> 2370
... B83: DICIEMBRE 2019 | D83: 124 | E83: 592 | F83: 333 | G83: 145 | H83: 123 | I83: 158 | J83: 367 | K83: 88 | L83: 8 | M83: =SUM(D83:L83) -> 1938
B84: TOTAL PAGO DE GASTOS FUNERALES | D84: =SUM(D12:D83) -> 10691 | E84: =SUM(E12:E83) -> 51197 | F84: =SUM(F12:F83) -> 30755 | G84: =SUM(G12:G83) -> 9766 | H84: =SUM(H12:H83) -> 10959 | I84: =SUM(I12:I83) -> 8769 | J84: =SUM(J12:J83) -> 34635 | K84: =SUM(K12:K83) -> 5696 | ... M84: =SUM(M12:M83) -> 163033
B87: Fuente: Base de Datos de Gastos Funerales del FRUV
B88: Elaborado en la DP - APS
B89: Fuente de Información Gestora.

Sheet Cuadro 1.3
B1: GASTOS FUNERALES
B2: INFORMACIÓN | C2: 1.3 MONTOS PAGADOS POR GASTOS FUNERALES DEL FRUV
C3: POR MESES
B4: PERIODO | C4: Histórico (Del 01 de enero de 2014 al Al 31 de Diciembre de 2019)
B8: MONTOS PAGADOS DE GASTOS FUNERALES DEL FRUV (*)
B9: MESES | D9: DEPARTAMENTOS | M9: TOTAL
D10: CHUQUISACA | E10: LA PAZ | F10: COCHABAMBA | G10: ORURO | H10: POTOSI | I10: TARIJA | J10: SANTA CRUZ | K10: BENI | L10: PANDO
B12: ENERO 2014 | D12: ='Cuadro 1.2'!D12*1800 -> 237600 | E12: ='Cuadro 1.2'!E12*1800 -> 1150200 | F12: ='Cuadro 1.2'!F12*1800 -> 631800 | G12: ='Cuadro 1.2'!G12*1800 -> 219600 | H12: ='Cuadro 1.2'!H12*1800 -> 225000 | I12: ='Cuadro 1.2'!I12*1800 -> 192600 | J12: ='Cuadro 1.2'!J12*1800 -> 667800 | K12: ='Cuadro 1.2'!K12*1800 -> 111600 | L12: ='Cuadro 1.2'!L12*1800 -> 9000 | M12: =SUM(C12:L12) -> 3445200
B13: FEBRERO 2014 | D13: ='Cuadro 1.2'!D13*1800 -> 255600 | E13: ='Cuadro 1.2'!E13*1800 -> 1128600 | F13: ='Cuadro 1.2'!F13*1800 -> 646200 | G13: ='Cuadro 1.2'!G13*1800 -> 176400 | H13: ='Cuadro 1.2'!H13*1800 -> 255600 | I13: ='Cuadro 1.2'!I13*1800 -> 201600 | J13: ='Cuadro 1.2'!J13*1800 -> 714600 | K13: ='Cuadro 1.2'!K13*1800 -> 113400 | L13: ='Cuadro 1.2'!L13*1800 -> 16200 | M13: =SUM(C13:L13) -> 3508200
B14: MARZO 2014 | D14: ='Cuadro 1.2'!D14*1800 -> 280800 | E14: ='Cuadro 1.2'!E14*1800 -> 1297800 | F14: ='Cuadro 1.2'!F14*1800 -> 759600 | G14: ='Cuadro 1.2'!G14*1800 -> 264600 | H14: ='Cuadro 1.2'!H14*1800 -> 280800 | I14: ='Cuadro 1.2'!I14*1800 -> 199800 | J14: ='Cuadro 1.2'!J14*1800 -> 795600 | K14: ='Cuadro 1.2'!K14*1800 -> 133200 | L14: ='Cuadro 1.2'!L14*1800 -> 12600 | M14: =SUM(C14:L14) -> 4024800
B15: ABRIL 2014 | D15: ='Cuadro 1.2'!D15*1800 -> 288000 | E15: ='Cuadro 1.2'!E15*1800 -> 1121400 | F15: ='Cuadro 1.2'!F15*1800 -> 669600 | G15: ='Cuadro 1.2'!G15*1800 -> 190800 | H15: ='Cuadro 1.2'!H15*1800 -> 208800 | I15: ='Cuadro 1.2'!I15*1800 -> 192600 | J15: ='Cuadro 1.2'!J15*1800 -> 682200 | K15: ='Cuadro 1.2'!K15*1800 -> 99000 | L15: ='Cuadro 1.2'!L15*1800 -> 19800 | M15: =SUM(C15:L15) -> 3472200
B16: MAYO 2014 | D16: ='Cuadro 1.2'!D16*1800 -> 234000 | E16: ='Cuadro 1.2'!E16*1800 -> 1180800 | F16: ='Cuadro 1.2'!F16*1800 -> 729000 | G16: ='Cuadro 1.2'!G16*1800 -> 230400 | H16: ='Cuadro 1.2'!H16*1800 -> 239400 | I16: ='Cuadro 1.2'!I16*1800 -> 169200 | J16: ='Cuadro 1.2'!J16*1800 -> 858600 | K16: ='Cuadro 1.2'!K16*1800 -> 136800 | L16: ='Cuadro 1.2'!L16*1800 -> 7200 | M16: =SUM(C16:L16) -> 3785400
B17: JUNIO 2014 | D17: ='Cuadro 1.2'!D17*1800 -> 235800 | E17: ='Cuadro 1.2'!E17*1800 -> 1130400 | F17: ='Cuadro 1.2'!F17*1800 -> 630000 | G17: ='Cuadro 1.2'!G17*1800 -> 208800 | H17: ='Cuadro 1.2'!H17*1800 -> 252000 | I17: ='Cuadro 1.2'!I17*1800 -> 181800 | J17: ='Cuadro 1.2'!J17*1800 -> 709200 | K17: ='Cuadro 1.2'!K17*1800 -> 111600 | L17: ='Cuadro 1.2'!L17*1800 -> 12600 | M17: =SUM(C17:L17) -> 3472200
B18: JULIO 2014 | D18: ='Cuadro 1.2'!D18*1800 -> 252000 | E18: ='Cuadro 1.2'!E18*1800 -> 1222200 | F18: ='Cuadro 1.2'!F18*1800 -> 770400 | G18: ='Cuadro 1.2'!G18*1800 -> 225000 | H18: ='Cuadro 1.2'!H18*1800 -> 210600 | I18: ='Cuadro 1.2'!I18*1800 -> 205200 | J18: ='Cuadro 1.2'!J18*1800 -> 808200 | K18: ='Cuadro 1.2'!K18*1800 -> 151200 | L18: ='Cuadro 1.2'!L18*1800 -> 18000 | M18: =SUM(C18:L18) -> 3862800
B19: AGOSTO 2014 | D19: ='Cuadro 1.2'!D19*1800 -> 271800 | E19: ='Cuadro 1.2'!E19*1800 -> 1288800 | F19: ='Cuadro 1.2'!F19*1800 -> 747000 | G19: ='Cuadro 1.2'!G19*1800 -> 250200 | H19: ='Cuadro 1.2'!H19*1800 -> 234000 | I19: ='Cuadro 1.2'!I19*1800 -> 205200 | J19: ='Cuadro 1.2'!J19*1800 -> 838800 | K19: ='Cuadro 1.2'!K19*1800 -> 151200 | L19: ='Cuadro 1.2'!L19*1800 -> 9000 | M19: =SUM(C19:L19) -> 3996000
B20: SEPTIEMBRE 2014 | D20: ='Cuadro 1.2'!D20*1800 -> 279000 | E20: ='Cuadro 1.2'!E20*1800 -> 1465200 | F20: ='Cuadro 1.2'!F20*1800 -> 815400 | G20: ='Cuadro 1.2'!G20*1800 -> 286200 | H20: ='Cuadro 1.2'!H20*1800 -> 318600 | I20: ='Cuadro 1.2'!I20*1800 -> 241200 | J20: ='Cuadro 1.2'!J20*1800 -> 919800 | K20: ='Cuadro 1.2'!K20*1800 -> 165600 | L20: ='Cuadro 1.2'!L20*1800 -> 5400 | M20: =SUM(C20:L20) -> 4496400
B21: OCTUBRE 2014 | D21: ='Cuadro 1.2'!D21*1800 -> 266400 | E21: ='Cuadro 1.2'!E21*1800 -> 1339200 | F21: ='Cuadro 1.2'!F21*1800 -> 856800 | G21: ='Cuadro 1.2'!G21*1800 -> 279000 | H21: ='Cuadro 1.2'!H21*1800 -> 333000 | I21: ='Cuadro 1.2'!I21*1800 -> 214200 | J21: ='Cuadro 1.2'!J21*1800 -> 822600 | K21: ='Cuadro 1.2'!K21*1800 -> 174600 | L21: ='Cuadro 1.2'!L21*1800 -> 9000 | M21: =SUM(C21:L21) -> 4294800
B22: NOVIEMBRE 2014 | D22: ='Cuadro 1.2'!D22*1800 -> 243000 | E22: ='Cuadro 1.2'!E22*1800 -> 1119600 | F22: ='Cuadro 1.2'!F22*1800 -> 698400 | G22: ='Cuadro 1.2'!G22*1800 -> 210600 | H22: ='Cuadro 1.2'!H22*1800 -> 235800 | I22: ='Cuadro 1.2'!I22*1800 -> 201600 | J22: ='Cuadro 1.2'!J22*1800 -> 824400 | K22: ='Cuadro 1.2'!K22*1800 -> 113400 | L22: ='Cuadro 1.2'!L22*1800 -> 9000 | M22: =SUM(C22:L22) -> 3655800
B23: DICIEMBRE 2014 | D23: ='Cuadro 1.2'!D23*1800 -> 217800 | E23: ='Cuadro 1.2'!E23*1800 -> 1319400 | F23: ='Cuadro 1.2'!F23*1800 -> 833400 | G23: ='Cuadro 1.2'!G23*1800 -> 262800 | H23: ='Cuadro 1.2'!H23*1800 -> 302400 | I23: ='Cuadro 1.2'!I23*1800 -> 244800 | J23: ='Cuadro 1.2'!J23*1800 -> 941400 | K23: ='Cuadro 1.2'!K23*1800 -> 136800 | L23: ='Cuadro 1.2'!L23*1800 -> 7200 | M23: =SUM(C23:L23) -> 4266000
... B58: NOVIEMBRE 2017 | D58: ='Cuadro 1.2'!D58*1800 -> 273600 | E58: ='Cuadro 1.2'!E58*1800 -> 1288800 | F58: ='Cuadro 1.2'!F58*1800 -> 757800 | G58: ='Cuadro 1.2'!G58*1800 -> 207000 | H58: ='Cuadro 1.2'!H58*1800 -> 279000 | I58: ='Cuadro 1.2'!I58*1800 -> 153000 | J58: ='Cuadro 1.2'!J58*1800 -> 829800 | K58: ='Cuadro 1.2'!K58*1800 -> 115200 | L58: ='Cuadro 1.2'!L58*1800 -> 14400 | M58: =SUM(C58:L58) -> 3918600
B59: DICIEMBRE 2017 | D59: 250200 | E59: 1227600 | F59: 786600 | G59: 252000 | H59: 293400 | I59: 243000 | J59: 774000 | K59: 158400 | L59: 14400 | M59: =SUM(D59:L59) -> 3999600
B60: ENERO 2018 | D60: 232200 | E60: 772200 | F60: 502200 | G60: 151200 | H60: 106200 | I60: 54000 | J60: 657000 | K60: 102600 | L60: 7200 | M60: =SUM(D60:L60) -> 2584800
B61: FEBRERO 2018 | D61: 241200 | E61: 1386000 | F61: 702000 | G61: 271800 | H61: 329400 | I61: 154800 | J61: 907200 | K61: 158400 | L61: 9000 | M61: =SUM(D61:L61) -> 4159800
B62: MARZO 2018 | D62: 243000 | E62: 1425600 | F62: 826200 | G62: 239400 | H62: 338400 | I62: 347400 | J62: 1045800 | K62: 158400 | L62: 23400 | M62: =SUM(D62:L62) -> 4647600
B63: ABRIL 2018 | D63: 246600 | E63: 1240200 | F63: 792000 | G63: 262800 | H63: 288000 | I63: 221400 | J63: 995400 | K63: 176400 | L63: 25200 | M63: =SUM(D63:L63) -> 4248000
B64: MAYO 2018 | D64: 221400 | E64: 1355400 | F64: 835200 | G64: 252000 | H64: 270000 | I64: 207000 | J64: 914400 | K64: 151200 | L64: 9000 | M64: =SUM(D64:L64) -> 4215600
B65: JUNIO 2018 | D65: 217800 | E65: 1317600 | F65: 817200 | G65: 214200 | H65: 289800 | I65: 196200 | J65: 792000 | K65: 165600 | L65: 10800 | M65: =SUM(D65:L65) -> 4021200
B66: JULIO 2018 | D66: 304200 | E66: 1384200 | F66: 783000 | G66: 264600 | H66: 295200 | I66: 248400 | J66: 975600 | K66: 133200 | L66: 21600 | M66: =SUM(D66:L66) -> 4410000
B67: AGOSTO 2018 | D67: 320400 | E67: 1445400 | F67: 907200 | G67: 246600 | H67: 288000 | I67: 262800 | J67: 1056600 | K67: 154800 | L67: 19800 | M67: =SUM(D67:L67) -> 4701600
B68: SEPTIEMBRE 2018 | D68: 295200 | E68: 1414800 | F68: 779400 | G68: 237600 | H68: 243000 | I68: 239400 | J68: 802800 | K68: 140400 | L68: 23400 | M68: =SUM(D68:L68) -> 4176000
B69: OCTUBRE 2018 | D69: 327600 | E69: 1603800 | F69: 847800 | G69: 253800 | H69: 358200 | I69: 239400 | J69: 1038600 | K69: 160200 | L69: 12600 | M69: =SUM(D69:L69) -> 4842000
B70: NOVIEMBRE 2018 | D70: 262800 | E70: 1308600 | F70: 691200 | G70: 252000 | H70: 253800 | I70: 205200 | J70: 930600 | K70: 149400 | L70: 19800 | M70: =SUM(D70:L70) -> 4073400
... B83: DICIEMBRE 2019 | D83: 223200 | E83: 1065600 | F83: 599400 | G83: 261000 | H83: 221400 | I83: 284400 | J83: 660600 | K83: 158400 | L83: 14400 | M83: =SUM(D83:L83) -> 3488400
B84: TOTAL PAGO DE GASTOS FUNERALES | D84: =SUM(D12:D83) -> 19243800 | E84: =SUM(E12:E83) -> 92154600 | F84: =SUM(F12:F83) -> 55359000 | G84: =SUM(G12:G83) -> 17578800 | H84: =SUM(H12:H83) -> 19726200 | I84: =SUM(I12:I83) -> 15784200 | J84: =SUM(J12:J83) -> 62343000 | K84: =SUM(K12:K83) -> 10252800 | ... M84: =SUM(M12:M83) -> 293459400
B85: (*) Expresado en Bolivianos
B87: Fuente: Base de Datos de Gastos Funerales del FRUV
B88: Elaborado en la DP - APS
B89: Fuente de Información Gestora.
